BEGIN:VCALENDAR
VERSION:2.0
PRODID:-//California Fire Safe Council - ECPv6.15.17//NONSGML v1.0//EN
CALSCALE:GREGORIAN
METHOD:PUBLISH
X-ORIGINAL-URL:https://cafiresafe.eclipse-dev.com
X-WR-CALDESC:Events for California Fire Safe Council
REFRESH-INTERVAL;VALUE=DURATION:PT1H
X-Robots-Tag:noindex
X-PUBLISHED-TTL:PT1H
BEGIN:VTIMEZONE
TZID:America/Los_Angeles
BEGIN:DAYLIGHT
TZOFFSETFROM:-0800
TZOFFSETTO:-0700
TZNAME:PDT
DTSTART:20210314T100000
END:DAYLIGHT
BEGIN:STANDARD
TZOFFSETFROM:-0700
TZOFFSETTO:-0800
TZNAME:PST
DTSTART:20211107T090000
END:STANDARD
BEGIN:DAYLIGHT
TZOFFSETFROM:-0800
TZOFFSETTO:-0700
TZNAME:PDT
DTSTART:20220313T100000
END:DAYLIGHT
BEGIN:STANDARD
TZOFFSETFROM:-0700
TZOFFSETTO:-0800
TZNAME:PST
DTSTART:20221106T090000
END:STANDARD
BEGIN:DAYLIGHT
TZOFFSETFROM:-0800
TZOFFSETTO:-0700
TZNAME:PDT
DTSTART:20230312T100000
END:DAYLIGHT
BEGIN:STANDARD
TZOFFSETFROM:-0700
TZOFFSETTO:-0800
TZNAME:PST
DTSTART:20231105T090000
END:STANDARD
END:VTIMEZONE
BEGIN:VEVENT
DTSTART;VALUE=DATE:20221014
DTEND;VALUE=DATE:20221016
DTSTAMP:20260424T143615
CREATED:20220928T193040Z
LAST-MODIFIED:20220928T193040Z
UID:5852-1665705600-1665878399@cafiresafe.eclipse-dev.com
SUMMARY:Santa Barbara County FSC Wildfire Preparedness Exposition
DESCRIPTION:The Santa Barbara County Fire Safe Council is excited to welcome the community to our Wildfire Preparedness Exhibition October 14th & 15th to learn how to live in wildfire threatened landscape! We have several fun\, family-friendly activities and exhibits planned. There will also be booths from over a dozen organizations so residents can get tailored information about how to prepare for the next wildfire.  \n\n\nFor media contact\, please reach out to our publicist Paula Lopez Ochoa (PLopezOchoa@SBFireSafeCouncil.org). \nhttps://sbfiresafecouncil.org/events/  \n\n\nWhen: \nFriday October 14th 4:30 PM – 7:00 PM \nSaturday October 15th 11:00 AM – 5:00 PM \nWhere: \nDirect Relief\, 6100 Wallace Becknell Road\, Goleta California \n 
URL:https://cafiresafe.eclipse-dev.com/event/santa-barbara-county-fsc-wildfire-preparedness-exposition/
LOCATION:Direct Relief\, 6100 Wallace Becknell Road\, Goleta\, CA\, 93117\, United States
CATEGORIES:Local FSC Events
END:VEVENT
END:VCALENDAR