BEGIN:VCALENDAR
VERSION:2.0
PRODID:-//California Fire Safe Council - ECPv6.15.17//NONSGML v1.0//EN
CALSCALE:GREGORIAN
METHOD:PUBLISH
X-ORIGINAL-URL:https://cafiresafe.eclipse-dev.com
X-WR-CALDESC:Events for California Fire Safe Council
REFRESH-INTERVAL;VALUE=DURATION:PT1H
X-Robots-Tag:noindex
X-PUBLISHED-TTL:PT1H
BEGIN:VTIMEZONE
TZID:America/Los_Angeles
BEGIN:DAYLIGHT
TZOFFSETFROM:-0800
TZOFFSETTO:-0700
TZNAME:PDT
DTSTART:20240310T100000
END:DAYLIGHT
BEGIN:STANDARD
TZOFFSETFROM:-0700
TZOFFSETTO:-0800
TZNAME:PST
DTSTART:20241103T090000
END:STANDARD
BEGIN:DAYLIGHT
TZOFFSETFROM:-0800
TZOFFSETTO:-0700
TZNAME:PDT
DTSTART:20250309T100000
END:DAYLIGHT
BEGIN:STANDARD
TZOFFSETFROM:-0700
TZOFFSETTO:-0800
TZNAME:PST
DTSTART:20251102T090000
END:STANDARD
BEGIN:DAYLIGHT
TZOFFSETFROM:-0800
TZOFFSETTO:-0700
TZNAME:PDT
DTSTART:20260308T100000
END:DAYLIGHT
BEGIN:STANDARD
TZOFFSETFROM:-0700
TZOFFSETTO:-0800
TZNAME:PST
DTSTART:20261101T090000
END:STANDARD
BEGIN:DAYLIGHT
TZOFFSETFROM:-0800
TZOFFSETTO:-0700
TZNAME:PDT
DTSTART:20270314T100000
END:DAYLIGHT
BEGIN:STANDARD
TZOFFSETFROM:-0700
TZOFFSETTO:-0800
TZNAME:PST
DTSTART:20271107T090000
END:STANDARD
END:VTIMEZONE
BEGIN:VEVENT
DTSTART;TZID=America/Los_Angeles:20250709T100000
DTEND;TZID=America/Los_Angeles:20250709T120000
DTSTAMP:20260425T043136
CREATED:20250630T160342Z
LAST-MODIFIED:20250702T210846Z
UID:9523-1752055200-1752062400@cafiresafe.eclipse-dev.com
SUMMARY:2025 State Fire Capacity (SFC) Grant Application Development Webinar
DESCRIPTION:2025 SFC Grant Application Development Webinar \nDate: July 9th\, 2025 \nTime: 10 A.M. – 12 P.M. \nLocation: Zoom – Register Here \nOn behalf of the Fire Safe Communities Program\, the California Fire Safe Council will be hosting a webinar on how to prepare your application for the 2025 State Fire Capacity Grant Program. Click here to register for this event. The webinar will cover everything necessary to equip you with the tools to apply on time and correctly. These topics include federal grant basics\, the ZoomGrants online application\, and what to expect as the application process continues. \nClick here to learn more about the 2025 State Fire Capacity Grant Program. \n\nFor More Information\, Please Contact: \n\nChristopher Lozano\, Senior Grant Specialist\, clozano@cafiresafecouncil.org\nJared Peri\, Program Manager\, jperi@cafiresafecouncil.org
URL:https://cafiresafe.eclipse-dev.com/event/2025-state-fire-capacity-grant-application-webinar/
CATEGORIES:CFSC Events
END:VEVENT
BEGIN:VEVENT
DTSTART;TZID=America/Los_Angeles:20250722T140000
DTEND;TZID=America/Los_Angeles:20250722T150000
DTSTAMP:20260425T043136
CREATED:20250721T224713Z
LAST-MODIFIED:20250721T224713Z
UID:9651-1753192800-1753196400@cafiresafe.eclipse-dev.com
SUMMARY:2025 State Fire Capacity Grant Program Office Hours
DESCRIPTION:The California Fire Safe Council is pleased to invite you to participate in the 2025 State Fire Capacity Office Hours. We will be available to answer your questions about the State Fire Capacity Grant Program\, provide guidance on any ZoomGrants issues\, or offer support in any way that can help you succeed in the program. The Notice of Funding Opportunity can be found here. \nOffice Hours:\nDate: Tuesdays and Thursdays (July 22nd – August 28th\, 2025))\nTime: 2PM – 3PM PT\nLocation: Microsoft Teams or you may also dial in by phone at 323-792-6282 (Conference ID: 218269346#)
URL:https://cafiresafe.eclipse-dev.com/event/2025-state-fire-capacity-grant-program-office-hours/2025-07-22/
CATEGORIES:CFSC Events
ORGANIZER;CN="CFSC":MAILTO:lpopyack@cafiresafecouncil.org
END:VEVENT
BEGIN:VEVENT
DTSTART;TZID=America/Los_Angeles:20250806T120000
DTEND;TZID=America/Los_Angeles:20250806T130000
DTSTAMP:20260425T043136
CREATED:20250807T212350Z
LAST-MODIFIED:20250807T212506Z
UID:9705-1754481600-1754485200@cafiresafe.eclipse-dev.com
SUMMARY:Southern CA Regional Office Hours
DESCRIPTION:The Southern California Regional Open Office Hour occurs on the first Wednesday of each month\, from 12:00 to 1:00 PM. \nRegister in advance for this meeting: \nhttps://us02web.zoom.us/meeting/register/tZclfu2gqzojE9IXxqJX7OPvhXQLvf1Sc_k6
URL:https://cafiresafe.eclipse-dev.com/event/southern-ca-regional-office-hours/2025-08-06/
CATEGORIES:CFSC Events
END:VEVENT
BEGIN:VEVENT
DTSTART;TZID=America/Los_Angeles:20250807T120000
DTEND;TZID=America/Los_Angeles:20250807T130000
DTSTAMP:20260425T043136
CREATED:20250807T212639Z
LAST-MODIFIED:20250807T212639Z
UID:9731-1754568000-1754571600@cafiresafe.eclipse-dev.com
SUMMARY:Northern/Central CA Regional Office Hours
DESCRIPTION:The Northern/Central California Regional Open Office Hour occurs on the first Thursday of the month\, from 12:00 to 1:00 PM. \nRegister in advance for this meeting: \nhttps://us02web.zoom.us/meeting/register/tZMldeGtqDovGdxrKLjCEW2zcbgMSUhT2doE
URL:https://cafiresafe.eclipse-dev.com/event/northern-central-ca-regional-office-hours/2025-08-07/
CATEGORIES:CFSC Events
END:VEVENT
BEGIN:VEVENT
DTSTART;TZID=America/Los_Angeles:20260108T120000
DTEND;TZID=America/Los_Angeles:20260108T130000
DTSTAMP:20260425T043136
CREATED:20250807T212639Z
LAST-MODIFIED:20251215T185155Z
UID:9761-1767873600-1767877200@cafiresafe.eclipse-dev.com
SUMMARY:Northern/Central CA Regional Office Hours
DESCRIPTION:The Northern/Central California Regional Open Office Hour occurs on the first Thursday of the month\, from 12:00 to 1:00 PM. \nRegister in advance for this meeting: \nhttps://us02web.zoom.us/meeting/register/tZMldeGtqDovGdxrKLjCEW2zcbgMSUhT2doE
URL:https://cafiresafe.eclipse-dev.com/event/northern-central-ca-regional-office-hours-2026-01-01/
CATEGORIES:CFSC Events
END:VEVENT
END:VCALENDAR