BEGIN:VCALENDAR
VERSION:2.0
PRODID:-//California Fire Safe Council - ECPv6.15.17//NONSGML v1.0//EN
CALSCALE:GREGORIAN
METHOD:PUBLISH
X-WR-CALNAME:California Fire Safe Council
X-ORIGINAL-URL:https://cafiresafe.eclipse-dev.com
X-WR-CALDESC:Events for California Fire Safe Council
REFRESH-INTERVAL;VALUE=DURATION:PT1H
X-Robots-Tag:noindex
X-PUBLISHED-TTL:PT1H
BEGIN:VTIMEZONE
TZID:America/Los_Angeles
BEGIN:DAYLIGHT
TZOFFSETFROM:-0800
TZOFFSETTO:-0700
TZNAME:PDT
DTSTART:20240310T100000
END:DAYLIGHT
BEGIN:STANDARD
TZOFFSETFROM:-0700
TZOFFSETTO:-0800
TZNAME:PST
DTSTART:20241103T090000
END:STANDARD
BEGIN:DAYLIGHT
TZOFFSETFROM:-0800
TZOFFSETTO:-0700
TZNAME:PDT
DTSTART:20250309T100000
END:DAYLIGHT
BEGIN:STANDARD
TZOFFSETFROM:-0700
TZOFFSETTO:-0800
TZNAME:PST
DTSTART:20251102T090000
END:STANDARD
BEGIN:DAYLIGHT
TZOFFSETFROM:-0800
TZOFFSETTO:-0700
TZNAME:PDT
DTSTART:20260308T100000
END:DAYLIGHT
BEGIN:STANDARD
TZOFFSETFROM:-0700
TZOFFSETTO:-0800
TZNAME:PST
DTSTART:20261101T090000
END:STANDARD
END:VTIMEZONE
BEGIN:VEVENT
DTSTART;VALUE=DATE:20250515
DTEND;VALUE=DATE:20250516
DTSTAMP:20260424T035840
CREATED:20221013T192049Z
LAST-MODIFIED:20221013T192049Z
UID:6711-1747267200-1747353599@cafiresafe.eclipse-dev.com
SUMMARY:East Orange County Canyons FSC Monthly Meeting
DESCRIPTION:Fire Safe Council of East Orange County Canyons Monthly Meeting \n  \n\n\n\n\n\nWhen: \n3rd Thursday of each month at 7PM\n\n\nWhere: \nOnline or in-person\n\n\nIn-person attendance:\nFire Safe Council of East Orange County Canyons meets on even months at Fire Station 14 in Silverado and odd months\, Fire Station 16 in Modjeska.\n\n\nVirtual attendance:\n\n\n\n\n\nJoin Zoom Meeting\nhttps://us06web.zoom.us/j/84246117778?pwd=dXlrNjhaSVFzY1FXendVWURzRXR2dz09Meeting ID: 842 4611 7778\nPasscode: 956172\nOne tap mobile\n+17207072699\,\,84246117778#\,\,\,\,*956172# US (Denver)\n+12532158782\,\,84246117778#\,\,\,\,*956172# US (Tacoma)Dial by your location\n+1 720 707 2699 US (Denver)\n+1 253 215 8782 US (Tacoma)\n+1 346 248 7799 US (Houston)\n+1 646 558 8656 US (New York)\n+1 301 715 8592 US (Washington DC)\n+1 312 626 6799 US (Chicago)\nMeeting ID: 842 4611 7778\nPasscode: 956172\nFind your local number: https://us06web.zoom.us/u/k5mUZUUoZ\n\n\n\n\n\n\n\nLearn more here: https://www.fsceocc.org \n\n 
URL:https://cafiresafe.eclipse-dev.com/event/east-orange-county-canyons-fsc-monthly-meeting/2025-05-15/
CATEGORIES:Local FSC Events
END:VEVENT
BEGIN:VEVENT
DTSTART;VALUE=DATE:20250515
DTEND;VALUE=DATE:20250516
DTSTAMP:20260424T035840
CREATED:20221122T180023Z
LAST-MODIFIED:20221122T180023Z
UID:6710-1747267200-1747353599@cafiresafe.eclipse-dev.com
SUMMARY:Los Angeles County FSC Monthly Meeting
DESCRIPTION:The Los Angeles County Fire Safe Council meets virtually on the third Thursday of each month at 7:00 PM.  \nYou can access the Zoom meeting by clicking the following link: https://us06web.zoom.us/j/87388186735  \nLearn more about MySafe:LA and the Los Angeles County Fire Safe Council here: https://www.mysafela.org/wildfire/ \n  \n 
URL:https://cafiresafe.eclipse-dev.com/event/los-angeles-county-fsc-monthly-meeting/2025-05-15/
CATEGORIES:Local FSC Events
END:VEVENT
BEGIN:VEVENT
DTSTART;TZID=America/Los_Angeles:20250521T120000
DTEND;TZID=America/Los_Angeles:20250521T130000
DTSTAMP:20260424T035840
CREATED:20231116T183223Z
LAST-MODIFIED:20250115T173850Z
UID:7585-1747828800-1747832400@cafiresafe.eclipse-dev.com
SUMMARY:CFSC Statewide Monthly Meeting
DESCRIPTION:CFSC’s monthly statewide meeting will be held on the third Wednesday of each month from 12:00 – 1:00 PM \nPlease register in advance for this meeting:  \nhttps://us02web.zoom.us/meeting/register/tZYkduyvqzIvGNDG-tRaH5rRRRdh7g-ANpma#/registration \nAfter registering\, you will receive a confirmation email containing information about joining the meeting. \nFor questions\, please contact our Southern California Regional Coordinator\, Britney Munoz \nBritney Munoz\, bmunoz@cafiresafecouncil.org
URL:https://cafiresafe.eclipse-dev.com/event/cfsc-statewide-monthly-meeting/2025-05-21/
CATEGORIES:CFSC Events,Regional Meetings
END:VEVENT
BEGIN:VEVENT
DTSTART;TZID=America/Los_Angeles:20250528T123000
DTEND;TZID=America/Los_Angeles:20250528T133000
DTSTAMP:20260424T035840
CREATED:20250404T232124Z
LAST-MODIFIED:20250404T232124Z
UID:9044-1748435400-1748439000@cafiresafe.eclipse-dev.com
SUMMARY:Fire Safe Virtual Expo
DESCRIPTION:CLICK HERE TO REGISTER\nWe’re making it easy for you to learn more about the products and services that can help you and your community become more fire safe. Please join us for one –or all – of our Virtual Expos! This “lunch and learn” webinar series is an opportunity to meet representatives from many of the businesses participating in the 2025 Fire Safe Vendor List. Each Expo will represent businesses from a variety of fire safe categories who will deliver live presentations about their products and services. We’ll end with a Q&A. All expos are FREE and open to the public. Recordings will be hosted on our YouTube channel. \nClick here to learn more about the Fire Safe Virtual Expo. \nSign-up today for one or all of these dates:\nApril 23 | April 30 | May 28 | June 3 | June 5 \nThe third expo in our series will be held on Wednesday\, May 28. Each business presents a five-minute overview of their product and/or service. We will end with a Q&A\, in which you may pose questions to the vendors. \n\n\n\n\n\n\n\n\n\n\n\n\n\n\n\n\n\n\n\n\nGreen Shield Risk Solutions\n\n\n\n\n\nWildfire Scoring & Mitigation Recommendations\, Wildfire Risk Insights & Analytics\n\n\n\n\n\n\n\n\n\n\nO’Hagin\, Inc.\n\n\n\n\n\n\n\nO’Hagin – The technological leader in attic ventilation products & services.\n\n\n\n\n\n\n\n\n\nRosenthal Fire Mitigation Services\n\n\n\n\n\n\n\nSteep Ground Brush Removal\, Shaded Fuel Breaks\, Mastication\, Limbing\, Chipping\n\n\n\n\n\n\n\n\n\n\n\n\n\n\nVibrant Planet\n\nOur app helps communities rapidly assess and mitigate wildfire risk.\n\n\n\n  \n\n\n\n\n\n\n\n\n\nCan’t join us live? You can watch the recording at your convenience on our YouTube channel.
URL:https://cafiresafe.eclipse-dev.com/event/fire-safe-virtual-expo-5-28/
CATEGORIES:CFSC Events
END:VEVENT
END:VCALENDAR