BEGIN:VCALENDAR
VERSION:2.0
PRODID:-//California Fire Safe Council - ECPv6.15.17//NONSGML v1.0//EN
CALSCALE:GREGORIAN
METHOD:PUBLISH
X-ORIGINAL-URL:https://cafiresafe.eclipse-dev.com
X-WR-CALDESC:Events for California Fire Safe Council
REFRESH-INTERVAL;VALUE=DURATION:PT1H
X-Robots-Tag:noindex
X-PUBLISHED-TTL:PT1H
BEGIN:VTIMEZONE
TZID:America/Los_Angeles
BEGIN:DAYLIGHT
TZOFFSETFROM:-0800
TZOFFSETTO:-0700
TZNAME:PDT
DTSTART:20230312T100000
END:DAYLIGHT
BEGIN:STANDARD
TZOFFSETFROM:-0700
TZOFFSETTO:-0800
TZNAME:PST
DTSTART:20231105T090000
END:STANDARD
BEGIN:DAYLIGHT
TZOFFSETFROM:-0800
TZOFFSETTO:-0700
TZNAME:PDT
DTSTART:20240310T100000
END:DAYLIGHT
BEGIN:STANDARD
TZOFFSETFROM:-0700
TZOFFSETTO:-0800
TZNAME:PST
DTSTART:20241103T090000
END:STANDARD
BEGIN:DAYLIGHT
TZOFFSETFROM:-0800
TZOFFSETTO:-0700
TZNAME:PDT
DTSTART:20250309T100000
END:DAYLIGHT
BEGIN:STANDARD
TZOFFSETFROM:-0700
TZOFFSETTO:-0800
TZNAME:PST
DTSTART:20251102T090000
END:STANDARD
END:VTIMEZONE
BEGIN:VEVENT
DTSTART;VALUE=DATE:20241113
DTEND;VALUE=DATE:20241114
DTSTAMP:20260424T130708
CREATED:20241030T192635Z
LAST-MODIFIED:20241030T192635Z
UID:8159-1731456000-1731542399@cafiresafe.eclipse-dev.com
SUMMARY:Partnering with the U.S. Fish and Wildlife Service on the CalVTP to protect wildlife and promote wildfire resilience
DESCRIPTION:Webinar Date: Wednesday\, November 13\nTime: 1 – 3:35 p.m. \nThis webinar is an opportunity for participants to increase their knowledge of how project proponents can both protect wildlife and\, if required (e.g.\, by the CalVTP)\, engage with the U.S. Fish and Wildlife Service (USFWS) regarding listed wildlife species protection for wildfire resilience and vegetation treatment projects. Showcasing best practices on CalVTP projects from the perspective of project proponent and wildlife agency staff about their coordination process\, outcomes\, and lessons learned. \nLara Rachowicz\, Senior Environmental Project Manager and Senior Ecologist at Ascent Environmental\, will provide an overview of the CalVTP’s strategies for special-status species protection\, maintenance of habitat\, and process for consultation with the federal and state wildlife agencies. Ryan Olah\, Coast Bay Division Supervisor\, Sacramento Fish and Wildlife Office\, USFWS\, will cover the definition of take under the Endangered Species Act\, how to determine if you have listed species in your project area that may be affected\, and who to contact from USFWS to answer questions regarding listed species. Joseph Brandt\, Assistant Division Supervisor\, Ventura Fish & Wildlife Office\, will discuss best practices when engaging with the Service. Allison Fuller\, Senior Wildlife Biologist at Ascent Environmental\, will explore practical strategies for meeting vegetation treatment project objectives; protecting sensitive wildlife\, plants\, and habitats; applying the best available science; and maintaining feasible project implementation standards. Matt Abernathy\, Senior Forest Health and Wildfire Resiliency Program Specialist at the Resource Conservation District of Santa Cruz County\, and Angie Richman\, Forest Health Program Specialist at the Resource Conservation District of Santa Cruz County\, will present on RCD Santa Cruz’s process of USFWS consultation in developing three different CalVTP Project Specific Analyses in recent years. \nLearn more & register here.
URL:https://cafiresafe.eclipse-dev.com/event/partnering-with-the-u-s-fish-and-wildlife-service-on-the-calvtp-to-protect-wildlife-and-promote-wildfire-resilience/
CATEGORIES:Partner Events
END:VEVENT
BEGIN:VEVENT
DTSTART;VALUE=DATE:20241119
DTEND;VALUE=DATE:20241120
DTSTAMP:20260424T130708
CREATED:20230201T164614Z
LAST-MODIFIED:20230201T164614Z
UID:6330-1731974400-1732060799@cafiresafe.eclipse-dev.com
SUMMARY:CFSC County Coordinator Monthly Meeting
DESCRIPTION:The CFSC Monthly County Coordinator Meeting Series is held on the 3rd Tuesday of the month at 11AM\, beginning Tuesday\, February 21st. The Meeting Series is an opportunity for subrecipients of the County Coordinator Grant Program to network\, engage\, and share resources. Registration is open to CFSC County Coordinators only. For questions or registration information\, please contact Julia Marsili\, jmarsili@cafiresafecouncil.org.
URL:https://cafiresafe.eclipse-dev.com/event/cfsc-county-coordinator-monthly-meeting/2024-11-19/
CATEGORIES:CFSC Events
END:VEVENT
BEGIN:VEVENT
DTSTART;TZID=America/Los_Angeles:20241120T120000
DTEND;TZID=America/Los_Angeles:20241120T130000
DTSTAMP:20260424T130708
CREATED:20231116T183223Z
LAST-MODIFIED:20250115T173847Z
UID:7579-1732104000-1732107600@cafiresafe.eclipse-dev.com
SUMMARY:CFSC Statewide Monthly Meeting
DESCRIPTION:CFSC’s monthly statewide meeting will be held on the third Wednesday of each month from 12:00 – 1:00 PM \nPlease register in advance for this meeting:  \nhttps://us02web.zoom.us/meeting/register/tZYkduyvqzIvGNDG-tRaH5rRRRdh7g-ANpma#/registration \nAfter registering\, you will receive a confirmation email containing information about joining the meeting. \nFor questions\, please contact our Southern California Regional Coordinator\, Britney Munoz \nBritney Munoz\, bmunoz@cafiresafecouncil.org
URL:https://cafiresafe.eclipse-dev.com/event/cfsc-statewide-monthly-meeting/2024-11-20/
CATEGORIES:CFSC Events,Regional Meetings
END:VEVENT
BEGIN:VEVENT
DTSTART;VALUE=DATE:20241121
DTEND;VALUE=DATE:20241122
DTSTAMP:20260424T130708
CREATED:20221013T192049Z
LAST-MODIFIED:20221013T192049Z
UID:6193-1732147200-1732233599@cafiresafe.eclipse-dev.com
SUMMARY:East Orange County Canyons FSC Monthly Meeting
DESCRIPTION:Fire Safe Council of East Orange County Canyons Monthly Meeting \n  \n\n\n\n\n\nWhen: \n3rd Thursday of each month at 7PM\n\n\nWhere: \nOnline or in-person\n\n\nIn-person attendance:\nFire Safe Council of East Orange County Canyons meets on even months at Fire Station 14 in Silverado and odd months\, Fire Station 16 in Modjeska.\n\n\nVirtual attendance:\n\n\n\n\n\nJoin Zoom Meeting\nhttps://us06web.zoom.us/j/84246117778?pwd=dXlrNjhaSVFzY1FXendVWURzRXR2dz09Meeting ID: 842 4611 7778\nPasscode: 956172\nOne tap mobile\n+17207072699\,\,84246117778#\,\,\,\,*956172# US (Denver)\n+12532158782\,\,84246117778#\,\,\,\,*956172# US (Tacoma)Dial by your location\n+1 720 707 2699 US (Denver)\n+1 253 215 8782 US (Tacoma)\n+1 346 248 7799 US (Houston)\n+1 646 558 8656 US (New York)\n+1 301 715 8592 US (Washington DC)\n+1 312 626 6799 US (Chicago)\nMeeting ID: 842 4611 7778\nPasscode: 956172\nFind your local number: https://us06web.zoom.us/u/k5mUZUUoZ\n\n\n\n\n\n\n\nLearn more here: https://www.fsceocc.org \n\n 
URL:https://cafiresafe.eclipse-dev.com/event/east-orange-county-canyons-fsc-monthly-meeting/2024-11-21/
CATEGORIES:Local FSC Events
END:VEVENT
BEGIN:VEVENT
DTSTART;VALUE=DATE:20241121
DTEND;VALUE=DATE:20241122
DTSTAMP:20260424T130708
CREATED:20221122T180023Z
LAST-MODIFIED:20250530T154744Z
UID:6191-1732147200-1732233599@cafiresafe.eclipse-dev.com
SUMMARY:Los Angeles County FSC Monthly Meeting
DESCRIPTION:The Los Angeles County Fire Safe Council meets virtually on the third Thursday of each month at 7:00 PM.  \nYou can access the Zoom meeting by clicking the following link: https://us06web.zoom.us/j/87388186735  \nLearn more about MySafe:LA and the Los Angeles County Fire Safe Council here: https://www.mysafela.org/wildfire/ \n  \n 
URL:https://cafiresafe.eclipse-dev.com/event/los-angeles-county-fsc-monthly-meeting/2024-11-21/
CATEGORIES:Local FSC Events
END:VEVENT
END:VCALENDAR