BEGIN:VCALENDAR
VERSION:2.0
PRODID:-//California Fire Safe Council - ECPv6.15.17//NONSGML v1.0//EN
CALSCALE:GREGORIAN
METHOD:PUBLISH
X-WR-CALNAME:California Fire Safe Council
X-ORIGINAL-URL:https://cafiresafe.eclipse-dev.com
X-WR-CALDESC:Events for California Fire Safe Council
REFRESH-INTERVAL;VALUE=DURATION:PT1H
X-Robots-Tag:noindex
X-PUBLISHED-TTL:PT1H
BEGIN:VTIMEZONE
TZID:America/Los_Angeles
BEGIN:DAYLIGHT
TZOFFSETFROM:-0800
TZOFFSETTO:-0700
TZNAME:PDT
DTSTART:20230312T100000
END:DAYLIGHT
BEGIN:STANDARD
TZOFFSETFROM:-0700
TZOFFSETTO:-0800
TZNAME:PST
DTSTART:20231105T090000
END:STANDARD
BEGIN:DAYLIGHT
TZOFFSETFROM:-0800
TZOFFSETTO:-0700
TZNAME:PDT
DTSTART:20240310T100000
END:DAYLIGHT
BEGIN:STANDARD
TZOFFSETFROM:-0700
TZOFFSETTO:-0800
TZNAME:PST
DTSTART:20241103T090000
END:STANDARD
BEGIN:DAYLIGHT
TZOFFSETFROM:-0800
TZOFFSETTO:-0700
TZNAME:PDT
DTSTART:20250309T100000
END:DAYLIGHT
BEGIN:STANDARD
TZOFFSETFROM:-0700
TZOFFSETTO:-0800
TZNAME:PST
DTSTART:20251102T090000
END:STANDARD
END:VTIMEZONE
BEGIN:VEVENT
DTSTART;VALUE=DATE:20240904
DTEND;VALUE=DATE:20240905
DTSTAMP:20260424T155959
CREATED:20240826T193458Z
LAST-MODIFIED:20240826T193458Z
UID:8023-1725408000-1725494399@cafiresafe.eclipse-dev.com
SUMMARY:CA Forestry Outreach Plan Webinar 1
DESCRIPTION:California Association of Resource Conservation Districts \nhttps://carcd.org/ \nBackground: Supported by CAL FIRE and USFS State and Private Forestry\, CARCD in partnership with UC Agriculture and Natural Resources (UCANR) and American Forests (AF)\, are developing a CA forestry outreach plan to help organizations better reach underserved landowners. In Sep-Oct 2024\, they are hosting 3 workshops to facilitate conversations between organizations\, agencies\, and underserved forest landowner representatives on forest equity outreach in CA. \nPlease register now! \nThe first workshop is targeted towards entities working with private forest landowners and will be held on Sep 4th\, Wed\, 10-11:30AM\, please register here. \nThe second workshop will be targeted for landowners\, especially those qualifying as underserved and will be held on Sep 16th\, Mon\, 6-7:30 PM. CARCD will follow up with an email & would love your help forwarding on to landowners! \nThe third workshop will be held in-person\, location and time TBD\, please stay tuned for updates from CARCD.
URL:https://cafiresafe.eclipse-dev.com/event/ca-forestry-outreach-plan-webinar-1/
CATEGORIES:Partner Events
END:VEVENT
BEGIN:VEVENT
DTSTART;VALUE=DATE:20240917
DTEND;VALUE=DATE:20240918
DTSTAMP:20260424T155959
CREATED:20230201T164614Z
LAST-MODIFIED:20230201T164614Z
UID:6328-1726531200-1726617599@cafiresafe.eclipse-dev.com
SUMMARY:CFSC County Coordinator Monthly Meeting
DESCRIPTION:The CFSC Monthly County Coordinator Meeting Series is held on the 3rd Tuesday of the month at 11AM\, beginning Tuesday\, February 21st. The Meeting Series is an opportunity for subrecipients of the County Coordinator Grant Program to network\, engage\, and share resources. Registration is open to CFSC County Coordinators only. For questions or registration information\, please contact Julia Marsili\, jmarsili@cafiresafecouncil.org.
URL:https://cafiresafe.eclipse-dev.com/event/cfsc-county-coordinator-monthly-meeting/2024-09-17/
CATEGORIES:CFSC Events
END:VEVENT
BEGIN:VEVENT
DTSTART;TZID=America/Los_Angeles:20240918T120000
DTEND;TZID=America/Los_Angeles:20240918T130000
DTSTAMP:20260424T155959
CREATED:20231116T183223Z
LAST-MODIFIED:20240918T225640Z
UID:7577-1726660800-1726664400@cafiresafe.eclipse-dev.com
SUMMARY:CFSC Statewide Monthly Meeting
DESCRIPTION:Thank you for attending CFSC’s September 2024 Statewide Monthly Meeting. Please click here to watch the video recording from this meeting. \n\nJoin CFSC on Wednesday\, September 18th\, for our next Statewide Monthly Meeting. Our guest speaker for this meeting is Jennifer Bennett\, Director of Education & Training at VolunteerMatch. VolunteerMatch is a volunteer-engagement network where volunteers can connect with local non-profit organizations to create impactful relationships and increase community resilience. Additionally\, we will be joined by CFSC’s Chief Development Officer\, Melanie Hogan\, to discuss CFSC’s new approved vendor list program and request participant feedback to help shape the final product.  \nCFSC’s monthly statewide meeting will be held on the third Wednesday of each month from 12:00 – 1:00 PM \nPlease register in advance for this meeting:  \nhttps://us02web.zoom.us/meeting/register/tZYkduyvqzIvGNDG-tRaH5rRRRdh7g-ANpma#/registration \nAfter registering\, you will receive a confirmation email containing information about joining the meeting. \nFor questions\, please contact our Southern California Regional Coordinator\, Britney Munoz \nBritney Munoz\, bmunoz@cafiresafecouncil.org
URL:https://cafiresafe.eclipse-dev.com/event/cfsc-statewide-monthly-meeting-2024-09-18/
CATEGORIES:CFSC Events,Regional Meetings
END:VEVENT
BEGIN:VEVENT
DTSTART;VALUE=DATE:20240919
DTEND;VALUE=DATE:20240920
DTSTAMP:20260424T155959
CREATED:20221013T192049Z
LAST-MODIFIED:20221101T174616Z
UID:6029-1726704000-1726790399@cafiresafe.eclipse-dev.com
SUMMARY:East Orange County Canyons FSC Monthly Meeting
DESCRIPTION:Fire Safe Council of East Orange County Canyons Monthly Meeting \n  \n\n\n\n\n\nWhen: \n3rd Thursday of each month at 7PM\n\n\nWhere: \nOnline or in-person\n\n\nIn-person attendance:\nFire Safe Council of East Orange County Canyons meets on even months at Fire Station 14 in Silverado and odd months\, Fire Station 16 in Modjeska.\n\n\nVirtual attendance:\n\n\n\n\n\nJoin Zoom Meeting\nhttps://us06web.zoom.us/j/84246117778?pwd=dXlrNjhaSVFzY1FXendVWURzRXR2dz09Meeting ID: 842 4611 7778\nPasscode: 956172\nOne tap mobile\n+17207072699\,\,84246117778#\,\,\,\,*956172# US (Denver)\n+12532158782\,\,84246117778#\,\,\,\,*956172# US (Tacoma)Dial by your location\n+1 720 707 2699 US (Denver)\n+1 253 215 8782 US (Tacoma)\n+1 346 248 7799 US (Houston)\n+1 646 558 8656 US (New York)\n+1 301 715 8592 US (Washington DC)\n+1 312 626 6799 US (Chicago)\nMeeting ID: 842 4611 7778\nPasscode: 956172\nFind your local number: https://us06web.zoom.us/u/k5mUZUUoZ\n\n\n\n\n\n\n\nLearn more here: https://www.fsceocc.org \n\n 
URL:https://cafiresafe.eclipse-dev.com/event/east-orange-county-canyons-fsc-monthly-meeting/2024-09-19/
CATEGORIES:Local FSC Events
END:VEVENT
BEGIN:VEVENT
DTSTART;VALUE=DATE:20240919
DTEND;VALUE=DATE:20240920
DTSTAMP:20260424T155959
CREATED:20221122T180023Z
LAST-MODIFIED:20250530T154743Z
UID:6189-1726704000-1726790399@cafiresafe.eclipse-dev.com
SUMMARY:Los Angeles County FSC Monthly Meeting
DESCRIPTION:The Los Angeles County Fire Safe Council meets virtually on the third Thursday of each month at 7:00 PM.  \nYou can access the Zoom meeting by clicking the following link: https://us06web.zoom.us/j/87388186735  \nLearn more about MySafe:LA and the Los Angeles County Fire Safe Council here: https://www.mysafela.org/wildfire/ \n  \n 
URL:https://cafiresafe.eclipse-dev.com/event/los-angeles-county-fsc-monthly-meeting/2024-09-19/
CATEGORIES:Local FSC Events
END:VEVENT
END:VCALENDAR