BEGIN:VCALENDAR
VERSION:2.0
PRODID:-//California Fire Safe Council - ECPv6.15.17//NONSGML v1.0//EN
CALSCALE:GREGORIAN
METHOD:PUBLISH
X-WR-CALNAME:California Fire Safe Council
X-ORIGINAL-URL:https://cafiresafe.eclipse-dev.com
X-WR-CALDESC:Events for California Fire Safe Council
REFRESH-INTERVAL;VALUE=DURATION:PT1H
X-Robots-Tag:noindex
X-PUBLISHED-TTL:PT1H
BEGIN:VTIMEZONE
TZID:America/Los_Angeles
BEGIN:DAYLIGHT
TZOFFSETFROM:-0800
TZOFFSETTO:-0700
TZNAME:PDT
DTSTART:20230312T100000
END:DAYLIGHT
BEGIN:STANDARD
TZOFFSETFROM:-0700
TZOFFSETTO:-0800
TZNAME:PST
DTSTART:20231105T090000
END:STANDARD
BEGIN:DAYLIGHT
TZOFFSETFROM:-0800
TZOFFSETTO:-0700
TZNAME:PDT
DTSTART:20240310T100000
END:DAYLIGHT
BEGIN:STANDARD
TZOFFSETFROM:-0700
TZOFFSETTO:-0800
TZNAME:PST
DTSTART:20241103T090000
END:STANDARD
BEGIN:DAYLIGHT
TZOFFSETFROM:-0800
TZOFFSETTO:-0700
TZNAME:PDT
DTSTART:20250309T100000
END:DAYLIGHT
BEGIN:STANDARD
TZOFFSETFROM:-0700
TZOFFSETTO:-0800
TZNAME:PST
DTSTART:20251102T090000
END:STANDARD
END:VTIMEZONE
BEGIN:VEVENT
DTSTART;TZID=America/Los_Angeles:20240205T093000
DTEND;TZID=America/Los_Angeles:20240205T123000
DTSTAMP:20260425T033133
CREATED:20240116T174102Z
LAST-MODIFIED:20240116T174102Z
UID:7725-1707125400-1707136200@cafiresafe.eclipse-dev.com
SUMMARY:23/24 State Fire Capacity (SFC) Grants Program Application Webinar
DESCRIPTION:The California Fire Safe Council (CFSC) announces the availability of approximately $1\,575\,000 in grant funds to support hazardous fuels reduction\, community wildfire prevention planning\, and education and mitigation activities in California and the Tahoe region of Nevada. Funding for the 23/24 State Fire Capacity (SFC) Grants Program is provided through master grants to CFSC by the Cooperative Fire Program of the U.S. Forest Service (USFS)\, Department of Agriculture\, Pacific Southwest Region. \nGrant applications are available starting February 1\, 2024. Completed applications are due on March 15\, 2024.   \nWebinars will be held on February 5\, 2024\, and February 12\, 2024\, at 9:30 AM. The webinars will cover everything necessary to equip you with the tools to apply on time and correctly. These topics include federal grant basics\, the ZoomGrants online application\, and what to expect as the application process continues. Please select a link to sign up for one of the webinars: \nMonday\, February 5th\, 2024 at 9:30 AM \nhttps://us02web.zoom.us/meeting/register/tZckdemopzItE9WTSsz1MPXClDnRc16whMx9 \nMonday\, February 12th\, 2024 at 9:30 AM \nhttps://us02web.zoom.us/meeting/register/tZwkduGsqTwjH9Lq_6om_F8GR0z53WXpO2ub \nFor more information about this opportunity\, please contact Senior Grant Specialist Morgan Galliano lgalliano@cafiresafecouncil.org or Staff Grant Specialist Thomas Shumaker tshumaker@cafiresafecouncil.org.
URL:https://cafiresafe.eclipse-dev.com/event/23-24-state-fire-capacity-sfc-grants-program-application-webinar/2024-02-05/
CATEGORIES:CFSC Events
END:VEVENT
BEGIN:VEVENT
DTSTART;TZID=America/Los_Angeles:20240207T140000
DTEND;TZID=America/Los_Angeles:20240207T150000
DTSTAMP:20260425T033133
CREATED:20211214T034915Z
LAST-MODIFIED:20211214T034915Z
UID:7809-1707314400-1707318000@cafiresafe.eclipse-dev.com
SUMMARY:Central California Outreach Workshop
DESCRIPTION:
URL:https://cafiresafe.eclipse-dev.com/event/central-california-outreach-workshop/2024-02-07/
LOCATION:Zoom\, McClellan\, CA\, 95652\, United States
ATTACH;FMTTYPE=image/png:https://cafiresafe.eclipse-dev.com/wp-content/uploads/2021/09/CFSC-Vertical-Full-color.png
ORGANIZER;CN="CFSC":MAILTO:lpopyack@cafiresafecouncil.org
END:VEVENT
BEGIN:VEVENT
DTSTART;TZID=America/Los_Angeles:20240212T093000
DTEND;TZID=America/Los_Angeles:20240212T123000
DTSTAMP:20260425T033133
CREATED:20240116T174102Z
LAST-MODIFIED:20240116T174102Z
UID:7727-1707730200-1707741000@cafiresafe.eclipse-dev.com
SUMMARY:23/24 State Fire Capacity (SFC) Grants Program Application Webinar
DESCRIPTION:The California Fire Safe Council (CFSC) announces the availability of approximately $1\,575\,000 in grant funds to support hazardous fuels reduction\, community wildfire prevention planning\, and education and mitigation activities in California and the Tahoe region of Nevada. Funding for the 23/24 State Fire Capacity (SFC) Grants Program is provided through master grants to CFSC by the Cooperative Fire Program of the U.S. Forest Service (USFS)\, Department of Agriculture\, Pacific Southwest Region. \nGrant applications are available starting February 1\, 2024. Completed applications are due on March 15\, 2024.   \nWebinars will be held on February 5\, 2024\, and February 12\, 2024\, at 9:30 AM. The webinars will cover everything necessary to equip you with the tools to apply on time and correctly. These topics include federal grant basics\, the ZoomGrants online application\, and what to expect as the application process continues. Please select a link to sign up for one of the webinars: \nMonday\, February 5th\, 2024 at 9:30 AM \nhttps://us02web.zoom.us/meeting/register/tZckdemopzItE9WTSsz1MPXClDnRc16whMx9 \nMonday\, February 12th\, 2024 at 9:30 AM \nhttps://us02web.zoom.us/meeting/register/tZwkduGsqTwjH9Lq_6om_F8GR0z53WXpO2ub \nFor more information about this opportunity\, please contact Senior Grant Specialist Morgan Galliano lgalliano@cafiresafecouncil.org or Staff Grant Specialist Thomas Shumaker tshumaker@cafiresafecouncil.org.
URL:https://cafiresafe.eclipse-dev.com/event/23-24-state-fire-capacity-sfc-grants-program-application-webinar/2024-02-12/
CATEGORIES:CFSC Events
END:VEVENT
BEGIN:VEVENT
DTSTART;TZID=America/Los_Angeles:20240214T120000
DTEND;TZID=America/Los_Angeles:20240214T130000
DTSTAMP:20260425T033133
CREATED:20220720T182131Z
LAST-MODIFIED:20240401T163154Z
UID:7306-1707912000-1707915600@cafiresafe.eclipse-dev.com
SUMMARY:CFSC Southern CA Regional Monthly Meeting
DESCRIPTION:Click here to watch the 2/14/2-24 Southern California Regional Meeting video recording. \n  \n\nPlease come join California Fire Safe Council Regional Coordinators during their monthly regional Check-ins and Networking Calls. Southern California meets on the second Wednesday of each month at 12:00 PM. \nPlease register in advance for this meeting: https://us02web.zoom.us/meeting/register/tZcude2rrzwrGtLwWPdfEpXlIjCctNj99Tfb \nAfter registering\, you will receive a confirmation email containing information about joining the meeting. \nFor questions\, please contact Britney Munoz\, our Southern California Regional Coordinator: bmunoz@cafiresafecouncil.org
URL:https://cafiresafe.eclipse-dev.com/event/cfsc-southern-ca-regional-monthly-meeting-2-2024-02-14/
CATEGORIES:CFSC Events,Regional Meetings
END:VEVENT
BEGIN:VEVENT
DTSTART;VALUE=DATE:20240215
DTEND;VALUE=DATE:20240216
DTSTAMP:20260425T033133
CREATED:20221013T192049Z
LAST-MODIFIED:20221101T174613Z
UID:6021-1707955200-1708041599@cafiresafe.eclipse-dev.com
SUMMARY:East Orange County Canyons FSC Monthly Meeting
DESCRIPTION:Fire Safe Council of East Orange County Canyons Monthly Meeting \n  \n\n\n\n\n\nWhen: \n3rd Thursday of each month at 7PM\n\n\nWhere: \nOnline or in-person\n\n\nIn-person attendance:\nFire Safe Council of East Orange County Canyons meets on even months at Fire Station 14 in Silverado and odd months\, Fire Station 16 in Modjeska.\n\n\nVirtual attendance:\n\n\n\n\n\nJoin Zoom Meeting\nhttps://us06web.zoom.us/j/84246117778?pwd=dXlrNjhaSVFzY1FXendVWURzRXR2dz09Meeting ID: 842 4611 7778\nPasscode: 956172\nOne tap mobile\n+17207072699\,\,84246117778#\,\,\,\,*956172# US (Denver)\n+12532158782\,\,84246117778#\,\,\,\,*956172# US (Tacoma)Dial by your location\n+1 720 707 2699 US (Denver)\n+1 253 215 8782 US (Tacoma)\n+1 346 248 7799 US (Houston)\n+1 646 558 8656 US (New York)\n+1 301 715 8592 US (Washington DC)\n+1 312 626 6799 US (Chicago)\nMeeting ID: 842 4611 7778\nPasscode: 956172\nFind your local number: https://us06web.zoom.us/u/k5mUZUUoZ\n\n\n\n\n\n\n\nLearn more here: https://www.fsceocc.org \n\n 
URL:https://cafiresafe.eclipse-dev.com/event/east-orange-county-canyons-fsc-monthly-meeting/2024-02-15/
CATEGORIES:Local FSC Events
END:VEVENT
BEGIN:VEVENT
DTSTART;VALUE=DATE:20240215
DTEND;VALUE=DATE:20240216
DTSTAMP:20260425T033133
CREATED:20221122T180023Z
LAST-MODIFIED:20221122T185809Z
UID:6182-1707955200-1708041599@cafiresafe.eclipse-dev.com
SUMMARY:Los Angeles County FSC Monthly Meeting
DESCRIPTION:The Los Angeles County Fire Safe Council meets virtually on the third Thursday of each month at 7:00 PM.  \nYou can access the Zoom meeting by clicking the following link: https://us06web.zoom.us/j/87388186735  \nLearn more about MySafe:LA and the Los Angeles County Fire Safe Council here: https://www.mysafela.org/wildfire/ \n  \n 
URL:https://cafiresafe.eclipse-dev.com/event/los-angeles-county-fsc-monthly-meeting/2024-02-15/
CATEGORIES:Local FSC Events
END:VEVENT
BEGIN:VEVENT
DTSTART;VALUE=DATE:20240220
DTEND;VALUE=DATE:20240221
DTSTAMP:20260425T033133
CREATED:20230201T164614Z
LAST-MODIFIED:20230201T164614Z
UID:6321-1708387200-1708473599@cafiresafe.eclipse-dev.com
SUMMARY:CFSC County Coordinator Monthly Meeting
DESCRIPTION:The CFSC Monthly County Coordinator Meeting Series is held on the 3rd Tuesday of the month at 11AM\, beginning Tuesday\, February 21st. The Meeting Series is an opportunity for subrecipients of the County Coordinator Grant Program to network\, engage\, and share resources. Registration is open to CFSC County Coordinators only. For questions or registration information\, please contact Julia Marsili\, jmarsili@cafiresafecouncil.org.
URL:https://cafiresafe.eclipse-dev.com/event/cfsc-county-coordinator-monthly-meeting/2024-02-20/
CATEGORIES:CFSC Events
END:VEVENT
BEGIN:VEVENT
DTSTART;TZID=America/Los_Angeles:20240221T120000
DTEND;TZID=America/Los_Angeles:20240221T130000
DTSTAMP:20260425T033133
CREATED:20231116T183223Z
LAST-MODIFIED:20240401T163247Z
UID:7570-1708516800-1708520400@cafiresafe.eclipse-dev.com
SUMMARY:CFSC Northern & Central CA Regional Monthly Meeting
DESCRIPTION:Click here to watch the 2/21/2024 Northern/Central Regional Meeting video recording. \n  \nPlease join California Fire Safe Council Regional Coordinators during their monthly regional Check-ins and Networking Calls. \nBrooke McAllister\, CFSC Central Regional Coordinator is acting as interim Northern Regional Coordinator\, due to the recent vacancy of the position. During this transition\, CFSC is combining the Central & Northern Regional Monthly Meetings\, as well as rescheduling the reoccurring date & time. \nMoving forward the Northern/Central Meeting will be held on the third Wednesday of each month from 12:00 – 1:00 PM \nPlease register in advance for this meeting:  \nhttps://us02web.zoom.us/meeting/register/tZYkduyvqzIvGNDG-tRaH5rRRRdh7g-ANpma#/registration \nAfter registering\, you will receive a confirmation email containing information about joining the meeting. \nFor questions\, please contact our interim Northern California Regional Coordinator\, Brooke McAllister \nBrooke McAllister\, bmcallister@cafiresafecouncil.org
URL:https://cafiresafe.eclipse-dev.com/event/cfsc-northern-california-regional-monthly-meeting-2024-02-21/
CATEGORIES:CFSC Events,Regional Meetings
END:VEVENT
BEGIN:VEVENT
DTSTART;TZID=America/Los_Angeles:20240228T120000
DTEND;TZID=America/Los_Angeles:20240228T130000
DTSTAMP:20260425T033133
CREATED:20221117T202049Z
LAST-MODIFIED:20240311T165531Z
UID:6149-1709121600-1709125200@cafiresafe.eclipse-dev.com
SUMMARY:CFSC Quarterly Statewide Meeting\, February 2024
DESCRIPTION:Click here to view the 2/28/2024 CFSC Quarterly Statewide Meeting webinar recording. \n  \n12:00 PM – 1:00 PM \nThese Quarterly Statewide Meetings are intended to allow Fire Safe Councils and Wildland Fire Prevention and Resilience Practitioners throughout California to connect and network with each other. Please join us on Zoom or call in to participate.  \nPlease register in advance for this meeting: \nhttps://us02web.zoom.us/meeting/register/tZctcO2rpzguE9ADr6CoDcVZ1wTclTd63w3v \nAfter registering\, you will receive a confirmation email containing information about joining the meeting.
URL:https://cafiresafe.eclipse-dev.com/event/cfsc-quarterly-statewide-meeting-feb-2024/
CATEGORIES:CFSC Events
END:VEVENT
END:VCALENDAR