BEGIN:VCALENDAR
VERSION:2.0
PRODID:-//California Fire Safe Council - ECPv6.15.17//NONSGML v1.0//EN
CALSCALE:GREGORIAN
METHOD:PUBLISH
X-ORIGINAL-URL:https://cafiresafe.eclipse-dev.com
X-WR-CALDESC:Events for California Fire Safe Council
REFRESH-INTERVAL;VALUE=DURATION:PT1H
X-Robots-Tag:noindex
X-PUBLISHED-TTL:PT1H
BEGIN:VTIMEZONE
TZID:America/Los_Angeles
BEGIN:DAYLIGHT
TZOFFSETFROM:-0800
TZOFFSETTO:-0700
TZNAME:PDT
DTSTART:20220313T100000
END:DAYLIGHT
BEGIN:STANDARD
TZOFFSETFROM:-0700
TZOFFSETTO:-0800
TZNAME:PST
DTSTART:20221106T090000
END:STANDARD
BEGIN:DAYLIGHT
TZOFFSETFROM:-0800
TZOFFSETTO:-0700
TZNAME:PDT
DTSTART:20230312T100000
END:DAYLIGHT
BEGIN:STANDARD
TZOFFSETFROM:-0700
TZOFFSETTO:-0800
TZNAME:PST
DTSTART:20231105T090000
END:STANDARD
BEGIN:DAYLIGHT
TZOFFSETFROM:-0800
TZOFFSETTO:-0700
TZNAME:PDT
DTSTART:20240310T100000
END:DAYLIGHT
BEGIN:STANDARD
TZOFFSETFROM:-0700
TZOFFSETTO:-0800
TZNAME:PST
DTSTART:20241103T090000
END:STANDARD
END:VTIMEZONE
BEGIN:VEVENT
DTSTART;VALUE=DATE:20230731
DTEND;VALUE=DATE:20230803
DTSTAMP:20260425T125102
CREATED:20230711T170920Z
LAST-MODIFIED:20230711T170920Z
UID:6979-1690761600-1691020799@cafiresafe.eclipse-dev.com
SUMMARY:2023 California Adaptation Forum (CAF)
DESCRIPTION:Monday\, July 31st – Wednesday\, August 2nd \nSheraton Fairplex Hotel & Conference Center in Pomona\, CA \n“The biennial California Adaptation Forum (CAF) aims to gather California’s adaptation community to foster knowledge exchange\, innovation\, and mutual support to accelerate adaptation efforts and create equitable and resilient communities throughout the state. CAF provides an inclusive space for community leaders\, decision-makers\, technical experts\, and on-the-ground practitioners working across California to connect\, discuss\, and learn about new policies and tools\, project successes and lessons learned\, and emerging opportunities to build climate resilience in the near-term and over the coming decades.” \nLearn more & register here: https://www.californiaadaptationforum.org
URL:https://cafiresafe.eclipse-dev.com/event/2023-california-adaptation-forum-caf/
CATEGORIES:Partner Events
END:VEVENT
BEGIN:VEVENT
DTSTART;VALUE=DATE:20230802
DTEND;VALUE=DATE:20230803
DTSTAMP:20260425T125102
CREATED:20220720T181851Z
LAST-MODIFIED:20230803T152851Z
UID:5898-1690934400-1691020799@cafiresafe.eclipse-dev.com
SUMMARY:CFSC Central CA Regional Monthly Meeting
DESCRIPTION:8/3/23 UPDATE: Thank you for attending CFSC’s Central California Regional Monthly Meeting on August 2\, 2023. You can view the video recording from this meeting via the link below. \n\nCFSC’s Central California Regional Monthly Meeting\, August 2\, 2023 \n\n\n\n2:00 PM – 3:00 PM\n\nPlease come join California Fire Safe Council Regional Coordinators during their monthly regional Check-ins and Networking Calls. Central California meets on the first Wednesday of each month at 2:00 PM. \nPlease register in advance for this meeting: https://us02web.zoom.us/meeting/register/tZYkduyvqzIvGNDG-tRaH5rRRRdh7g-ANpma \nAfter registering\, you will receive a confirmation email containing information about joining the meeting. \nFor questions\, please contact Brooke McAllister\, our Central California Regional Coordinator: bmcallister@cafiresafecouncil.org
URL:https://cafiresafe.eclipse-dev.com/event/cfsc-central-ca-regional-monthly-meeting-2-2023-08-02/
CATEGORIES:CFSC Events,Regional Meetings
END:VEVENT
BEGIN:VEVENT
DTSTART;VALUE=DATE:20230805
DTEND;VALUE=DATE:20230806
DTSTAMP:20260425T125102
CREATED:20230803T171553Z
LAST-MODIFIED:20230803T171553Z
UID:7148-1691193600-1691279999@cafiresafe.eclipse-dev.com
SUMMARY:San Mateo County Disaster Preparedness Day
DESCRIPTION: 
URL:https://cafiresafe.eclipse-dev.com/event/san-mateo-county-disaster-preparedness-day/
CATEGORIES:Partner Events
END:VEVENT
BEGIN:VEVENT
DTSTART;VALUE=DATE:20230809
DTEND;VALUE=DATE:20230810
DTSTAMP:20260425T125102
CREATED:20220720T182131Z
LAST-MODIFIED:20230814T213311Z
UID:5873-1691539200-1691625599@cafiresafe.eclipse-dev.com
SUMMARY:CFSC Southern CA Regional Monthly Meeting
DESCRIPTION:8/14 UPDATE: Thank you for attending CFSC’s Southern California Regional Monthly Meeting on August 9\, 2023. You can view the video recording for this meeting via the link below. \n\nVIDEO: CFSC Southern California Regional Monthly Meeting\, August 9th\, 2023. \n  \n  \n\n12:00 PM – 1:00 PM \n\nPlease come join California Fire Safe Council Regional Coordinators during their monthly regional Check-ins and Networking Calls. Southern California meets on the second Wednesday of each month at 12:00 PM. \nPlease register in advance for this meeting: https://us02web.zoom.us/meeting/register/tZcude2rrzwrGtLwWPdfEpXlIjCctNj99Tfb \nAfter registering\, you will receive a confirmation email containing information about joining the meeting. \nFor questions\, please contact Britney Munoz\, our Southern California Regional Coordinator: bmunoz@cafiresafecouncil.org
URL:https://cafiresafe.eclipse-dev.com/event/cfsc-southern-ca-regional-monthly-meeting-2-2023-08-09/
CATEGORIES:CFSC Events,Regional Meetings
END:VEVENT
BEGIN:VEVENT
DTSTART;VALUE=DATE:20230810
DTEND;VALUE=DATE:20230811
DTSTAMP:20260425T125102
CREATED:20230808T193258Z
LAST-MODIFIED:20230808T193440Z
UID:7172-1691625600-1691711999@cafiresafe.eclipse-dev.com
SUMMARY:FSC Coffee Chat
DESCRIPTION:Thursday\, August 10th at 10:30 am – 11:30 am \nFire Safe Council of San Diego County bimonthly FSC Coffee Chat. \nFire Safe Council of San Diego County will be hosting a presentation with NFPA Staff on the FireWise program and will discuss the benefits of forming FireWise communities. Additionally\, they will have CAL FIRE staff on the call to answer any questions about FireWise and to get you connected to those staff who can best assist your FSC if you’re interested in learning more.  \n\nTopic: FSC Coffee Chat \nTime: Aug 10\, 2023 10:30 AM Pacific Time (US and Canada) \nJoin Zoom Meeting \nhttps://us02web.zoom.us/j/87152623494?pwd=ejJob2U2UUlqdkQ1L2ZuV3FPeE5rdz09 \n  \nMeeting ID: 871 5262 3494 \nPasscode: 218918
URL:https://cafiresafe.eclipse-dev.com/event/fsc-coffee-chat/
CATEGORIES:Local FSC Events
END:VEVENT
BEGIN:VEVENT
DTSTART;VALUE=DATE:20230812
DTEND;VALUE=DATE:20230813
DTSTAMP:20260425T125102
CREATED:20230808T163639Z
LAST-MODIFIED:20230808T163639Z
UID:7158-1691798400-1691884799@cafiresafe.eclipse-dev.com
SUMMARY:First Annual Fire & Ice Festival
DESCRIPTION:
URL:https://cafiresafe.eclipse-dev.com/event/first-annual-fire-ice-festival/
CATEGORIES:Local FSC Events
END:VEVENT
BEGIN:VEVENT
DTSTART;VALUE=DATE:20230817
DTEND;VALUE=DATE:20230818
DTSTAMP:20260425T125102
CREATED:20230808T182913Z
LAST-MODIFIED:20230808T182913Z
UID:7164-1692230400-1692316799@cafiresafe.eclipse-dev.com
SUMMARY:Ventura County Firewise Workshop
DESCRIPTION:
URL:https://cafiresafe.eclipse-dev.com/event/ventura-county-firewise-workshop/
CATEGORIES:Local FSC Events,Partner Events
END:VEVENT
BEGIN:VEVENT
DTSTART;VALUE=DATE:20230817
DTEND;VALUE=DATE:20230818
DTSTAMP:20260425T125102
CREATED:20230809T185328Z
LAST-MODIFIED:20230809T185328Z
UID:7179-1692230400-1692316799@cafiresafe.eclipse-dev.com
SUMMARY:Regional Wildfire Panel: My World s on Fire\, How About Yours?
DESCRIPTION:
URL:https://cafiresafe.eclipse-dev.com/event/regional-wildfire-panel-my-world-s-on-fire-how-about-yours/
CATEGORIES:Partner Events
END:VEVENT
BEGIN:VEVENT
DTSTART;VALUE=DATE:20230829
DTEND;VALUE=DATE:20230830
DTSTAMP:20260425T125102
CREATED:20230808T183425Z
LAST-MODIFIED:20230808T183425Z
UID:7168-1693267200-1693353599@cafiresafe.eclipse-dev.com
SUMMARY:Wildfire-Ready Workshop\, Ventura Regional Fire Safe Council
DESCRIPTION:“Learn the steps to take to lower your wildfire risk! This interactive workshop will help you create an action plan to protect your home. \nThe Ventura Regional Fire Safe Council has partnered with the Ventura Land Trust to offer this free workshop. This event is open to the public and is suitable for all ages. \nThis workshop will take place at 6pm on Tuesday\, August 29\, 2023\, at the Poinsettia Pavilion at 3451 Foothill Rd\, Ventura\, CA 93003. \nSummary: Wildfires have grown in size and impact in Ventura County in the last several years\, such as the Thomas Fire\, which burned 281\,893 acres and 1\,063 structures\, and Woolsey Fire\, which burned 97\,000 acres and 670 structures. \nHow would this workshop help protect my home? Based on the latest science from the Insurance Institute for Home & Safety (IBHS)\, the structure and vegetation modification recommendations given by their team may reduce your home’s wildfire risk up to 75%. Recommendations made during this workshop could include affordable actions such as removing debris from gutters\, or larger actions such as trimming back overhanging trees. \nFunding for this Project provided by the California Department of Forestry and Fire Protection’s Fire Prevention Program as part of the California Climate Investments Program. \nAbout Ventura Regional Fire Safe Council: Ventura Regional Fire Safe Council is a 501c3 nonprofit whose mission is to reduce wildfire threats to farms\, ranches\, urban neighborhoods\, and infrastructure through an aggressive program of action\, education\, and collaboration. \nThis event is free\, open to the public and is suitable for all ages.” \nREGISTER HERE
URL:https://cafiresafe.eclipse-dev.com/event/wildfire-ready-workshop-ventura-regional-fire-safe-council/
CATEGORIES:Local FSC Events
END:VEVENT
BEGIN:VEVENT
DTSTART;VALUE=DATE:20230829
DTEND;VALUE=DATE:20230830
DTSTAMP:20260425T125102
CREATED:20230808T190419Z
LAST-MODIFIED:20230808T190419Z
UID:7170-1693267200-1693353599@cafiresafe.eclipse-dev.com
SUMMARY:CA Wildfire & Forest Resilience Task Force Meeting
DESCRIPTION:California Wildfire & Forest Resilience Task Force Meeting \nSacramento\, CA \n1 – 4 PM \nLearn more & register here: https://wildfiretaskforce.org/meetings/
URL:https://cafiresafe.eclipse-dev.com/event/ca-wildfire-forest-resilience-task-force-meeting/
CATEGORIES:Partner Events
END:VEVENT
BEGIN:VEVENT
DTSTART;VALUE=DATE:20230830
DTEND;VALUE=DATE:20230831
DTSTAMP:20260425T125102
CREATED:20230808T181901Z
LAST-MODIFIED:20230808T181901Z
UID:7162-1693353600-1693439999@cafiresafe.eclipse-dev.com
SUMMARY:Napa Firewise Insurance Webinar
DESCRIPTION:“Napa Firewise will be hosting an insurance webinar on August 30th at 5:30pm – save the date! Joining us will be a representative from State Insurance Commissioner Lara’s office\, United Policy Holders\, and more. Watch for details on the NCFF Calendar and read about the insurance benefits that come with wildfire mitigation efforts.” \nLearn more here: https://napafirewise.org/event/insurance-webinar/
URL:https://cafiresafe.eclipse-dev.com/event/napa-firewise-insurance-webinar/
CATEGORIES:Partner Events
END:VEVENT
BEGIN:VEVENT
DTSTART;TZID=America/Los_Angeles:20230831T120000
DTEND;TZID=America/Los_Angeles:20230831T130000
DTSTAMP:20260425T125102
CREATED:20230601T160642Z
LAST-MODIFIED:20230831T235621Z
UID:6900-1693483200-1693486800@cafiresafe.eclipse-dev.com
SUMMARY:CFSC Northern CA Regional Monthly Meeting
DESCRIPTION:UPDATE: Thank you for attending CFSC’s Northern California Regional Monthly Meeting on August 31\, 2023. You can view the video recording for this meeting via the link below. \nVIDEO: CFSC Northern California Regional Monthly Meeting\, August 2023. \n— \n12:00 PM – 1:00 PM \nPlease come join California Fire Safe Council Regional Coordinators during their monthly regional Check-ins and Networking Calls. Northern California meets on the fourth Thursday of each month at 12:00 PM. \nPlease register in advance for this meeting:  \nhttps://us02web.zoom.us/meeting/register/tZwsdO2gqDMqHtFfuppXAQ5OxDF9g6fHwqE9 \nAfter registering\, you will receive a confirmation email containing information about joining the meeting. \nFor questions\, please contact our Northern California Regional Coordinator\, Mike Wilson. \nMike Wilson\, mwilson@cafiresafecouncil.org
URL:https://cafiresafe.eclipse-dev.com/event/cfsc-northern-ca-regional-monthly-meeting-3-2023-08-31/
CATEGORIES:CFSC Events,Regional Meetings
END:VEVENT
END:VCALENDAR