BEGIN:VCALENDAR
VERSION:2.0
PRODID:-//California Fire Safe Council - ECPv6.15.17//NONSGML v1.0//EN
CALSCALE:GREGORIAN
METHOD:PUBLISH
X-WR-CALNAME:California Fire Safe Council
X-ORIGINAL-URL:https://cafiresafe.eclipse-dev.com
X-WR-CALDESC:Events for California Fire Safe Council
REFRESH-INTERVAL;VALUE=DURATION:PT1H
X-Robots-Tag:noindex
X-PUBLISHED-TTL:PT1H
BEGIN:VTIMEZONE
TZID:America/Los_Angeles
BEGIN:DAYLIGHT
TZOFFSETFROM:-0800
TZOFFSETTO:-0700
TZNAME:PDT
DTSTART:20220313T100000
END:DAYLIGHT
BEGIN:STANDARD
TZOFFSETFROM:-0700
TZOFFSETTO:-0800
TZNAME:PST
DTSTART:20221106T090000
END:STANDARD
BEGIN:DAYLIGHT
TZOFFSETFROM:-0800
TZOFFSETTO:-0700
TZNAME:PDT
DTSTART:20230312T100000
END:DAYLIGHT
BEGIN:STANDARD
TZOFFSETFROM:-0700
TZOFFSETTO:-0800
TZNAME:PST
DTSTART:20231105T090000
END:STANDARD
BEGIN:DAYLIGHT
TZOFFSETFROM:-0800
TZOFFSETTO:-0700
TZNAME:PDT
DTSTART:20240310T100000
END:DAYLIGHT
BEGIN:STANDARD
TZOFFSETFROM:-0700
TZOFFSETTO:-0800
TZNAME:PST
DTSTART:20241103T090000
END:STANDARD
END:VTIMEZONE
BEGIN:VEVENT
DTSTART;VALUE=DATE:20230705
DTEND;VALUE=DATE:20230706
DTSTAMP:20260425T160244
CREATED:20220720T181851Z
LAST-MODIFIED:20230706T174309Z
UID:5897-1688515200-1688601599@cafiresafe.eclipse-dev.com
SUMMARY:CFSC Central CA Regional Monthly Meeting
DESCRIPTION:7/6/23 UPDATE: Thank you for attending CFSC’s Central California Regional Monthly Meeting on July 5th\, 2023. You can view the video recording & presentation slides below. \n\n\nVideo Recording\nPresentation Slides \n\n\n—\n2:00 PM – 3:00 PM\n\n\n\n\nPlease come join California Fire Safe Council Regional Coordinators during their monthly regional Check-ins and Networking Calls. Central California meets on the first Wednesday of each month at 2:00 PM. \n  \nPlease register in advance for this meeting: https://us02web.zoom.us/meeting/register/tZYkduyvqzIvGNDG-tRaH5rRRRdh7g-ANpma \nAfter registering\, you will receive a confirmation email containing information about joining the meeting. \n  \nFor questions\, please contact Brooke McAllister\, our Central California Regional Coordinator: bmcallister@cafiresafecouncil.org
URL:https://cafiresafe.eclipse-dev.com/event/cfsc-central-ca-regional-monthly-meeting-2-2023-07-05/
CATEGORIES:CFSC Events,Regional Meetings
END:VEVENT
BEGIN:VEVENT
DTSTART;VALUE=DATE:20230710
DTEND;VALUE=DATE:20230711
DTSTAMP:20260425T160244
CREATED:20230710T160134Z
LAST-MODIFIED:20230710T160134Z
UID:6974-1688947200-1689033599@cafiresafe.eclipse-dev.com
SUMMARY:Community Wildfire Preparedness and Mitigation Webinar
DESCRIPTION:  \n \nAccess Zoom link here: https://bit.ly/July-10-2023-Webinar  \nAccess PDF here: CWPM Webinar Series Flyer (July 10\, 2023)[28]
URL:https://cafiresafe.eclipse-dev.com/event/community-wildfire-preparedness-and-mitigation-webinar/
CATEGORIES:Partner Events
END:VEVENT
BEGIN:VEVENT
DTSTART;VALUE=DATE:20230712
DTEND;VALUE=DATE:20230713
DTSTAMP:20260425T160244
CREATED:20220720T182131Z
LAST-MODIFIED:20230725T231644Z
UID:5872-1689120000-1689206399@cafiresafe.eclipse-dev.com
SUMMARY:CFSC Southern CA Regional Monthly Meeting
DESCRIPTION:UPDATE: Thank you for attending CFSC’s Southern California Regional Monthly Meeting on July 12\, 2023. You can view the video recording via the link below. \nClick here to view the video recording. \n  \n\n12:00 PM – 1:00 PM \n\nPlease come join California Fire Safe Council Regional Coordinators during their monthly regional Check-ins and Networking Calls. Southern California meets on the second Wednesday of each month at 12:00 PM. \nPlease register in advance for this meeting: https://us02web.zoom.us/meeting/register/tZcude2rrzwrGtLwWPdfEpXlIjCctNj99Tfb \nAfter registering\, you will receive a confirmation email containing information about joining the meeting. \nFor questions\, please contact Britney Munoz\, our Southern California Regional Coordinator: bmunoz@cafiresafecouncil.org
URL:https://cafiresafe.eclipse-dev.com/event/cfsc-southern-ca-regional-monthly-meeting-2-2023-07-12/
CATEGORIES:CFSC Events,Regional Meetings
END:VEVENT
BEGIN:VEVENT
DTSTART;VALUE=DATE:20230717
DTEND;VALUE=DATE:20230718
DTSTAMP:20260425T160244
CREATED:20230717T174345Z
LAST-MODIFIED:20230717T181234Z
UID:6992-1689552000-1689638399@cafiresafe.eclipse-dev.com
SUMMARY:CWPP Toolkit Development Webinar
DESCRIPTION:
URL:https://cafiresafe.eclipse-dev.com/event/cwpp-toolkitdevelopment-webinar/
CATEGORIES:CFSC Events,Partner Events
END:VEVENT
BEGIN:VEVENT
DTSTART;VALUE=DATE:20230718
DTEND;VALUE=DATE:20230719
DTSTAMP:20260425T160244
CREATED:20230717T174345Z
LAST-MODIFIED:20230717T181215Z
UID:6996-1689638400-1689724799@cafiresafe.eclipse-dev.com
SUMMARY:CWPP Toolkit Development Webinar
DESCRIPTION:
URL:https://cafiresafe.eclipse-dev.com/event/cwpp-toolkitdevelopment-webinar-2023-07-18/
CATEGORIES:CFSC Events,Partner Events
END:VEVENT
BEGIN:VEVENT
DTSTART;VALUE=DATE:20230719
DTEND;VALUE=DATE:20230720
DTSTAMP:20260425T160244
CREATED:20221117T201738Z
LAST-MODIFIED:20230720T181456Z
UID:6147-1689724800-1689811199@cafiresafe.eclipse-dev.com
SUMMARY:CFSC Quarterly Statewide Meeting\, July 2023
DESCRIPTION:7/20 UPDATE: Thank you for attending CFSC’s Quarterly Statewide Meeting on July 19\, 2023. You can watch the webinar recording here: \nhttps://us02web.zoom.us/rec/share/LxuK40hv2i3AeKWXt6LsWbQh0snDBJD9i5hsb0IY6bfJuOi19rSHRJ492to5PMZb.vZ3HnffRX65Ul9wu \nThe presentation slides from our guest speaker\, Nicholas Johnson\, Emergency and Environmental Programs Manager\, California Conservation Corps (CCC)\, are available below. \nCCC 101 Presentation 2023 \n— \n12:00 PM – 1:00 PM\nThese Quarterly Statewide Meetings are intended to allow Fire Safe Councils and Wildland Fire Prevention and Resilience Practitioners throughout California to connect and network with each other. Please join us on Zoom or call in to participate. \nThe Statewide Quarterly meetings occur every 3 months\, on the third Wednesday at 12:00 PM. \n  \nPlease register in advance for this meeting: \nhttps://us02web.zoom.us/meeting/register/tZctcO2rpzguE9ADr6CoDcVZ1wTclTd63w3v \nAfter registering\, you will receive a confirmation email containing information about joining the meeting.
URL:https://cafiresafe.eclipse-dev.com/event/cfsc-quarterly-statewide-meeting-july-2023/
CATEGORIES:CFSC Events
END:VEVENT
BEGIN:VEVENT
DTSTART;VALUE=DATE:20230720
DTEND;VALUE=DATE:20230721
DTSTAMP:20260425T160244
CREATED:20230706T175211Z
LAST-MODIFIED:20230706T175211Z
UID:6968-1689811200-1689897599@cafiresafe.eclipse-dev.com
SUMMARY:Post-Fire Fuels Treatments in a Coastal Demonstration Forest: the Recent Past and Future of Cal Poly's Swanton Pacific Ranch
DESCRIPTION:Post-Fire Fuels Treatments in a Coastal Demonstration Forest: the Recent Past and Future of Cal Poly’s Swanton Pacific Ranch \nWebinar Date: Thursday\, July 20\, 10 a.m. – noon \nREGISTER HERE \n“Want to learn more about fuel treatments at an important teaching and demonstration forest? Cal Poly’s Swanton Pacific Ranch has long served to train students and the greater community about how to steward a working mixed Douglas fir and redwood forests in California’s central coast. In 2020\, the CZU Lightning Complex Fire raged through that forest\, with moderate to severe impacts. How do we best restore a scorched forest to guarantee sustainable redwood harvest and healthy watersheds for future generations? \nJoin us for a webinar focused on post-wildfire forest health treatments on Thursday\, July 20th from 10:00am-12:00pm. Dr. Grey Hayes\, Program Director of Cal Poly’s Fuels and Vegetation Education program\, Research and Education Manager at Swanton Pacific Ranch\, and restoration ecologist will outline the ecological and fire history at Swanton Pacific Ranch (SPR)\, describe the treatments conducted post-wildfire\, and provide lessons learned throughout the process. Together\, we can discuss opportunities for future treatments at SPR and how they pertain to demonstration about\, and instruction on\, adaptive management of similar ecosystems across the region.”
URL:https://cafiresafe.eclipse-dev.com/event/post-fire-fuels-treatments-in-a-coastal-demonstration-forest-the-recent-past-and-future-of-cal-polys-swanton-pacific-ranch/
CATEGORIES:Partner Events
END:VEVENT
BEGIN:VEVENT
DTSTART;VALUE=DATE:20230720
DTEND;VALUE=DATE:20230721
DTSTAMP:20260425T160244
CREATED:20230717T174345Z
LAST-MODIFIED:20230717T181410Z
UID:6997-1689811200-1689897599@cafiresafe.eclipse-dev.com
SUMMARY:CWPP Toolkit Development Webinar
DESCRIPTION:
URL:https://cafiresafe.eclipse-dev.com/event/cwpp-toolkitdevelopment-webinar-2023-07-20/
CATEGORIES:CFSC Events,Partner Events
END:VEVENT
BEGIN:VEVENT
DTSTART;VALUE=DATE:20230724
DTEND;VALUE=DATE:20230725
DTSTAMP:20260425T160244
CREATED:20230720T180604Z
LAST-MODIFIED:20230720T180604Z
UID:7008-1690156800-1690243199@cafiresafe.eclipse-dev.com
SUMMARY:OSFM Community Wildfire Preparedness and Mitigation Webinar
DESCRIPTION:
URL:https://cafiresafe.eclipse-dev.com/event/osfm-community-wildfire-preparedness-and-mitigation-webinar/
CATEGORIES:Partner Events
END:VEVENT
BEGIN:VEVENT
DTSTART;VALUE=DATE:20230725
DTEND;VALUE=DATE:20230726
DTSTAMP:20260425T160244
CREATED:20230717T174345Z
LAST-MODIFIED:20230717T181428Z
UID:6998-1690243200-1690329599@cafiresafe.eclipse-dev.com
SUMMARY:CWPP Toolkit Development Webinar
DESCRIPTION:
URL:https://cafiresafe.eclipse-dev.com/event/cwpp-toolkitdevelopment-webinar-2023-07-25/
CATEGORIES:CFSC Events,Partner Events
END:VEVENT
BEGIN:VEVENT
DTSTART;VALUE=DATE:20230727
DTEND;VALUE=DATE:20230728
DTSTAMP:20260425T160244
CREATED:20230706T175006Z
LAST-MODIFIED:20230706T175006Z
UID:6965-1690416000-1690502399@cafiresafe.eclipse-dev.com
SUMMARY:Field Training: Fuels Treatments in the Wildland Urban Interface (WUI): Lessons Learned Post Wildfire at Swanton Pacific Ranch
DESCRIPTION:Fuels Treatments in the Wildland Urban Interface WUI: Lessons learned post-wildfire at Swanton Pacific Ranch \nWhat: Fuels Treatments in the Wildland Urban Interface WUI: Lessons learned post-wildfire at Swanton Pacific Ranch\nField Training Date: Thursday\, July 27\, 9 a.m. – 4:30 p.m.\nLocation: 125 Swanton Road\, Davenport\, CA \nREGISTER HERE \n“This is an opportunity to learn about forest health treatments\, hazard tree removal\, lessons learned in post-wildfire fuels treatments\, and biomass removal with the goal of increasing fire resilience and enhancing forest health in the wildland-urban interface (WUI). \nWant to learn more about fuel treatments on the WUI? Join us for an intriguing conversation on post wildfire forest health treatments in a field workshop on Thursday\, July 27th from 9:00am-4:30pm at Cal Poly’s Swanton Pacific Ranch located in Davenport\, CA. Participants will learn from staff at Swanton Pacific Ranch about how to increase the pace and scale of vegetation and fuels treatments\, utilizing various funding opportunities and partnerships.”
URL:https://cafiresafe.eclipse-dev.com/event/field-training-fuels-treatments-in-the-wildland-urban-interface-wui-lessons-learned-post-wildfire-at-swanton-pacific-ranch/
CATEGORIES:Partner Events
END:VEVENT
BEGIN:VEVENT
DTSTART;TZID=America/Los_Angeles:20230727T120000
DTEND;TZID=America/Los_Angeles:20230727T130000
DTSTAMP:20260425T160244
CREATED:20230601T160642Z
LAST-MODIFIED:20230831T234357Z
UID:6899-1690459200-1690462800@cafiresafe.eclipse-dev.com
SUMMARY:CFSC Northern CA Regional Monthly Meeting
DESCRIPTION:UPDATE: Thank you for attending CFSC’s Northern California Regional Monthly Meeting on July 27th\, 2023. The PowerPoint presentation slides from this meeting are available for download below. \nPowerPoint Presentation\, July 27\, 2023  \n— \nPlease come join California Fire Safe Council Regional Coordinators during their monthly regional Check-ins and Networking Calls. Northern California meets on the fourth Thursday of each month at 12:00 PM. \nPlease register in advance for this meeting:  \nhttps://us02web.zoom.us/meeting/register/tZwsdO2gqDMqHtFfuppXAQ5OxDF9g6fHwqE9 \nAfter registering\, you will receive a confirmation email containing information about joining the meeting. \nFor questions\, please contact our Northern California Regional Coordinator\, Mike Wilson. \nMike Wilson\, mwilson@cafiresafecouncil.org
URL:https://cafiresafe.eclipse-dev.com/event/cfsc-northern-ca-regional-monthly-meeting-3-2023-07-27/
CATEGORIES:CFSC Events,Regional Meetings
END:VEVENT
BEGIN:VEVENT
DTSTART;VALUE=DATE:20230731
DTEND;VALUE=DATE:20230803
DTSTAMP:20260425T160244
CREATED:20230711T170920Z
LAST-MODIFIED:20230711T170920Z
UID:6979-1690761600-1691020799@cafiresafe.eclipse-dev.com
SUMMARY:2023 California Adaptation Forum (CAF)
DESCRIPTION:Monday\, July 31st – Wednesday\, August 2nd \nSheraton Fairplex Hotel & Conference Center in Pomona\, CA \n“The biennial California Adaptation Forum (CAF) aims to gather California’s adaptation community to foster knowledge exchange\, innovation\, and mutual support to accelerate adaptation efforts and create equitable and resilient communities throughout the state. CAF provides an inclusive space for community leaders\, decision-makers\, technical experts\, and on-the-ground practitioners working across California to connect\, discuss\, and learn about new policies and tools\, project successes and lessons learned\, and emerging opportunities to build climate resilience in the near-term and over the coming decades.” \nLearn more & register here: https://www.californiaadaptationforum.org
URL:https://cafiresafe.eclipse-dev.com/event/2023-california-adaptation-forum-caf/
CATEGORIES:Partner Events
END:VEVENT
END:VCALENDAR