BEGIN:VCALENDAR
VERSION:2.0
PRODID:-//California Fire Safe Council - ECPv6.15.17//NONSGML v1.0//EN
CALSCALE:GREGORIAN
METHOD:PUBLISH
X-ORIGINAL-URL:https://cafiresafe.eclipse-dev.com
X-WR-CALDESC:Events for California Fire Safe Council
REFRESH-INTERVAL;VALUE=DURATION:PT1H
X-Robots-Tag:noindex
X-PUBLISHED-TTL:PT1H
BEGIN:VTIMEZONE
TZID:America/Los_Angeles
BEGIN:DAYLIGHT
TZOFFSETFROM:-0800
TZOFFSETTO:-0700
TZNAME:PDT
DTSTART:20220313T100000
END:DAYLIGHT
BEGIN:STANDARD
TZOFFSETFROM:-0700
TZOFFSETTO:-0800
TZNAME:PST
DTSTART:20221106T090000
END:STANDARD
BEGIN:DAYLIGHT
TZOFFSETFROM:-0800
TZOFFSETTO:-0700
TZNAME:PDT
DTSTART:20230312T100000
END:DAYLIGHT
BEGIN:STANDARD
TZOFFSETFROM:-0700
TZOFFSETTO:-0800
TZNAME:PST
DTSTART:20231105T090000
END:STANDARD
BEGIN:DAYLIGHT
TZOFFSETFROM:-0800
TZOFFSETTO:-0700
TZNAME:PDT
DTSTART:20240310T100000
END:DAYLIGHT
BEGIN:STANDARD
TZOFFSETFROM:-0700
TZOFFSETTO:-0800
TZNAME:PST
DTSTART:20241103T090000
END:STANDARD
END:VTIMEZONE
BEGIN:VEVENT
DTSTART;VALUE=DATE:20230501
DTEND;VALUE=DATE:20230505
DTSTAMP:20260425T191109
CREATED:20230117T194532Z
LAST-MODIFIED:20230117T194532Z
UID:6280-1682899200-1683244799@cafiresafe.eclipse-dev.com
SUMMARY:CAPIO Conference
DESCRIPTION:https://www.capio.org/annual-conference \nCalifornia Association of Public Information Officers (CAPIO) Conference 2023 \nMay 1\, 2023 – May 4\, 2023 \nHyatt Regency Monterey Hotel\n1 Old Golf Course Road\nMonterey\, CA 93940 \n  \nMore Details TBA
URL:https://cafiresafe.eclipse-dev.com/event/capio-conference/
CATEGORIES:Partner Events
END:VEVENT
BEGIN:VEVENT
DTSTART;VALUE=DATE:20230503
DTEND;VALUE=DATE:20230504
DTSTAMP:20260425T191109
CREATED:20220720T181851Z
LAST-MODIFIED:20230508T182404Z
UID:5895-1683072000-1683158399@cafiresafe.eclipse-dev.com
SUMMARY:CFSC Central CA Regional Monthly Meeting
DESCRIPTION:5/08/23 UPDATE: Thank you for attending CFSC’s Central California Regional Monthly Meeting on May 3\, 2023. You can view or download the video recording via the link below. \n\n\n  \nhttps://us02web.zoom.us/rec/share/2KtOC-gvcfqlhM2oOwbJl_7xRTUKWjlJDueGmPtCNiDDa4n5CQfqryo6u4BNUWMv.UjhHBhQcO6XlXFMp \n  \n  \n\n\n2:00 PM – 3:00 PM\n\n\n\n\nPlease come join California Fire Safe Council Regional Coordinators during their monthly regional Check-ins and Networking Calls. Central California meets on the first Wednesday of each month at 2:00 PM. \nPlease register in advance for this meeting: https://us02web.zoom.us/meeting/register/tZYkduyvqzIvGNDG-tRaH5rRRRdh7g-ANpma \nAfter registering\, you will receive a confirmation email containing information about joining the meeting. \nFor questions\, please contact Brooke McAllister\, our Central California Regional Coordinator: bmcallister@cafiresafecouncil.org
URL:https://cafiresafe.eclipse-dev.com/event/cfsc-central-ca-regional-monthly-meeting-2-2023-05-03/
CATEGORIES:CFSC Events,Regional Meetings
END:VEVENT
BEGIN:VEVENT
DTSTART;VALUE=DATE:20230504
DTEND;VALUE=DATE:20230506
DTSTAMP:20260425T191110
CREATED:20230117T194941Z
LAST-MODIFIED:20230117T194941Z
UID:6281-1683158400-1683331199@cafiresafe.eclipse-dev.com
SUMMARY:Wildland Fire Training & Safety Conference\, SCAFFW
DESCRIPTION:https://www.scaffw.org/annual-conference/ \nMay 5\, 2023 – May 6\, 2023 \nOak Glen\, California \nThe Southern California Association of Foresters and Fire Wardens each year brings together close to two hundred persons from the different fire protection agencies for a two-day training and safety conference. This has proven to be of significant value because it helps to strengthen the bond among all wildland firefighters\, regardless of jurisdiction. There have been countless stories about fire suppression personnel from different agencies working together on a fire more effectively because they knew each other from a Foresters and Fire Wardens gathering. \nRegister here: https://www.scaffw.org/annual-registration-form/
URL:https://cafiresafe.eclipse-dev.com/event/wildland-fire-training-safety-conference-scaffw/
CATEGORIES:Partner Events
END:VEVENT
BEGIN:VEVENT
DTSTART;VALUE=DATE:20230510
DTEND;VALUE=DATE:20230511
DTSTAMP:20260425T191110
CREATED:20220720T182131Z
LAST-MODIFIED:20230518T201030Z
UID:5870-1683676800-1683763199@cafiresafe.eclipse-dev.com
SUMMARY:CFSC Southern CA Regional Monthly Meeting
DESCRIPTION:5/18/23 UPDATE: Thank you for attending CFSC’s Southern California Regional Monthly Meeting on May 10\, 2023. You can view or download the video recording via the link below. \n\nhttps://us02web.zoom.us/rec/share/km1ADR26oC9m6KFWJAPFR7CE1Ugkj5JVuxjQNYwns43OwjfrLQ-DQYVTUzbV-JYT.KShALJamGoMqH1LY \n\n\n\n12:00 PM – 1:00 PM\n\n\n\n\nPlease come join California Fire Safe Council Regional Coordinators during their monthly regional Check-ins and Networking Calls. Southern California meets on the second Wednesday of each month at 12:00 PM. \n  \nPlease register in advance for this meeting: https://us02web.zoom.us/meeting/register/tZcude2rrzwrGtLwWPdfEpXlIjCctNj99Tfb \nAfter registering\, you will receive a confirmation email containing information about joining the meeting. \n  \nFor questions\, please contact Britney Munoz\, our Southern California Regional Coordinator: bmunoz@cafiresafecouncil.org
URL:https://cafiresafe.eclipse-dev.com/event/cfsc-southern-ca-regional-monthly-meeting-2-2023-05-10/
CATEGORIES:CFSC Events,Regional Meetings
END:VEVENT
BEGIN:VEVENT
DTSTART;VALUE=DATE:20230511
DTEND;VALUE=DATE:20230512
DTSTAMP:20260425T191110
CREATED:20230117T195656Z
LAST-MODIFIED:20230117T195656Z
UID:6282-1683763200-1683849599@cafiresafe.eclipse-dev.com
SUMMARY:CA Wildfire & Resilience Task Force Meeting\, Central Coast
DESCRIPTION:May 11\, 2023 \nAll-Day Event \nCentral Coast\, CA \nMore Details TBA \nhttps://wildfiretaskforce.org \nhttps://wildfiretaskforce.org/meetings/ 
URL:https://cafiresafe.eclipse-dev.com/event/ca-wildfire-resilience-task-force-meeting-central-coast/
CATEGORIES:Partner Events
END:VEVENT
BEGIN:VEVENT
DTSTART;VALUE=DATE:20230516
DTEND;VALUE=DATE:20230517
DTSTAMP:20260425T191110
CREATED:20230510T161418Z
LAST-MODIFIED:20230510T161418Z
UID:6678-1684195200-1684281599@cafiresafe.eclipse-dev.com
SUMMARY:Prescribed Grazing in the Ojai Valley: Community Supported Grazing Program
DESCRIPTION:  \nSee how targeted grazing is used for wildfire fuels mitigation in the Ojai Valley as part of a growing Community Supported Grazing Program. \n“Join us on a field-day to learn about the Ojai Valley Fire Safe Council’s multi-stakeholder approach to community-scale\, fire-safety and ecological resilience with graziers\, fire fighters\, ecologists\, natural resource experts\, community organizations\, and U.C. Cooperative Extension. Owner-operators of Shepherdess Land & Livestock and Ventura Brush Goats will walk participants through the ins and outs of planning grazing in complex wildfire-urban landscapes\, with demonstrations at the Besant School of Happy Valley and the Thacher School\, where grazing with sheep and goats is being utilized to manage fuel loads and fire risk in these high-risk communities. \nWhat to Bring: Hat\, sunblock\, water\, binoculars. Please be prepared to walk up to a mile on uneven terrain\, and wear appropriate footwear and attire. While we expect the weather to be warm\, layers are advised. If you believe you will require assistance with mobility\, please contact the event organizer.” \nhttps://www.eventbrite.com/e/prescribed-grazing-in-the-ojai-valley-community-supported-grazing-program-tickets-626646796437 
URL:https://cafiresafe.eclipse-dev.com/event/prescribed-grazing-in-the-ojai-valley-community-supported-grazing-program/
CATEGORIES:Local FSC Events
END:VEVENT
BEGIN:VEVENT
DTSTART;VALUE=DATE:20230518
DTEND;VALUE=DATE:20230519
DTSTAMP:20260425T191110
CREATED:20221117T201145Z
LAST-MODIFIED:20230523T191039Z
UID:6146-1684368000-1684454399@cafiresafe.eclipse-dev.com
SUMMARY:CFSC Quarterly Statewide Meeting\, May 2023
DESCRIPTION:5/23/23 UPDATE: Thank you for attending CFSC’s Quarterly Statewide Meeting on May 18\, 2023. You can view or download the video recording via the link below. \n\nhttps://us02web.zoom.us/rec/share/6QNzCspAQsKx_71I5sxykLbGUjQUM9Zycmm0biZGQUfAlHkDOX6rCXAtO5fulv9N.kwiJQc__NavqQ_pY \n\n\n11:30 AM – 12:30 PM\nThese Quarterly Statewide Meetings are intended to allow Fire Safe Councils and Wildland Fire Prevention and Resilience Practitioners throughout California to connect for peer learning\, training\, and networking. \nPlease register in advance for this meeting: \nhttps://us02web.zoom.us/meeting/register/tZctcO2rpzguE9ADr6CoDcVZ1wTclTd63w3v \nAfter registering\, you will receive a confirmation email containing information about joining the meeting. \n 
URL:https://cafiresafe.eclipse-dev.com/event/california-fire-safe-councils-quarterly-statewide-meeting-may-2023/
CATEGORIES:CFSC Events
END:VEVENT
BEGIN:VEVENT
DTSTART;VALUE=DATE:20230520
DTEND;VALUE=DATE:20230521
DTSTAMP:20260425T191110
CREATED:20230105T222745Z
LAST-MODIFIED:20230105T222915Z
UID:6246-1684540800-1684627199@cafiresafe.eclipse-dev.com
SUMMARY:Ember Stomp: Wildfire Prevention Festival
DESCRIPTION:11:00 AM – 5:00 PM \n\n\n\n\n\n\nMarin Civic Center \nMarin County Fair 10 Avenue of the Flags \nSan Rafael\, CA 94903 \n\n\n\n\nFire Safe Marin presents Ember Stomp\, the 2nd annual wildfire prevention festival in Marin County. This free event on May 20\, 2023\, at the Marin Civic Center will spotlight an extensive collection of wildfire prevention resources and demonstrations. The festival will feature wildfire safety product manufacturers and service providers\, public safety agencies\, a wildfire-themed art exhibit\, live music and entertainment\, hands-on activities and games\, and lots of great food. \n\n\n\n\n\n\n\n\n\n\n\nhttps://firesafemarin.org/programs/wildfire-preparedness-festival/
URL:https://cafiresafe.eclipse-dev.com/event/ember-stomp-wildfire-prevention-festival/
CATEGORIES:Local FSC Events
END:VEVENT
BEGIN:VEVENT
DTSTART;VALUE=DATE:20230520
DTEND;VALUE=DATE:20230521
DTSTAMP:20260425T191110
CREATED:20230117T201256Z
LAST-MODIFIED:20230117T201335Z
UID:6285-1684540800-1684627199@cafiresafe.eclipse-dev.com
SUMMARY:SmokeChasers Festival
DESCRIPTION:https://www.smokechasersevent.com \nSmokeChasers Festival\, A First Responder Fair \nMay 20\, 2023 \n11:00 AM – 7:00 PM \nAmador County Fairgrounds \n\n\nA one-day\, outdoor festival to bring emergency preparedness information to foothill residents. \n\n\n\n\nEngines\, boats\, even a helicopter: Come meet first responders for a day of giveaways\, demonstrations\, games and activities\, information booths\, and more. Learn how to be prepared\, all while enjoying craft beer and local wine tasting\, great food\, live music\, meeting K-9 teams and rescued wildlife\, and visiting dozens of artisan and preparedness vendors. \nSaturday\, May 21 at 1 PM\, the Deputy Commissioner of California will present a Keynote speech entitled\, “Being Safer from Wildfires Can Increase Insurance Availability and Affordability.”
URL:https://cafiresafe.eclipse-dev.com/event/smokechasers-festival/
CATEGORIES:Partner Events
END:VEVENT
BEGIN:VEVENT
DTSTART;VALUE=DATE:20230523
DTEND;VALUE=DATE:20230524
DTSTAMP:20260425T191110
CREATED:20230523T154123Z
LAST-MODIFIED:20230523T154123Z
UID:6720-1684800000-1684886399@cafiresafe.eclipse-dev.com
SUMMARY:2022 Defensible Space Assistance Grant Program Application Webinar
DESCRIPTION:The California Fire Safe Council (CFSC)\, in partnership with Cal Fire and the California Climate Investments Program\, is pleased to announce the 2022 Defensible Space Assistance Grant Program. The application will be open from May 15\, 2023\, through June 15\, 2023. For more information\, visit the Grant Program website.  \n  \nJoin the Application Webinar:   \nMay 23\, 2023\, 9:00 AM – 10:30 AM \nRegister here: https://us02web.zoom.us/meeting/register/tZEpc-mtpz0tHtMK8FhMOkYCoZd24mVy9h-E \n  \nAPPLICATION SCHEDULE: \nMay 15\, 2023   |   Application period opens \nMay 23\, 2023   |   Application webinar; 9:00am – 10:30am \nJune 15\, 2023  |   Application deadline at 11:59pm \nJuly 2023          |   Award announcement
URL:https://cafiresafe.eclipse-dev.com/event/2022-defensible-space-assistance-grant-program-application-webinar-2/
CATEGORIES:CFSC Events
END:VEVENT
BEGIN:VEVENT
DTSTART;VALUE=DATE:20230525
DTEND;VALUE=DATE:20230526
DTSTAMP:20260425T191110
CREATED:20220720T182323Z
LAST-MODIFIED:20230530T213226Z
UID:5931-1684972800-1685059199@cafiresafe.eclipse-dev.com
SUMMARY:CFSC Northern Ca Regional Monthly Meeting
DESCRIPTION:5/30/23 UPDATE: Thank you for attending CFSC’s Northern California Regional Monthly Meeting on May 25\, 2023. You can view or download the video recording via the link below \nhttps://us02web.zoom.us/rec/share/tGR1Uwd6OMs5JBhrokvmw_ql1ZXWlSOJY4_rja6AXMer0Dlce4-T-VbMa0b5Mr71.LCGKpMw1TU20NVmx \n\n12:00 PM – 1:00 PM\nPlease come join California Fire Safe Council Regional Coordinators during their monthly regional Check-ins and Networking Calls. Northern California meets on the fourth Thursday of each month at 12:00 PM. \nPlease register in advance for this meeting: https://us02web.zoom.us/meeting/register/tZwsdO2gqDMqHtFfuppXAQ5OxDF9g6fHwqE9 \nAfter registering\, you will receive a confirmation email containing information about joining the meeting. \nFor questions\, please contact our Northern California Regional Coordinator\, Mike Wilson. \nMike Wilson\, mwilson@cafiresafecouncil.org
URL:https://cafiresafe.eclipse-dev.com/event/cfsc-northern-ca-regional-monthly-meeting-2-2023-05-25/
CATEGORIES:CFSC Events,Regional Meetings
END:VEVENT
END:VCALENDAR