BEGIN:VCALENDAR
VERSION:2.0
PRODID:-//California Fire Safe Council - ECPv6.15.17//NONSGML v1.0//EN
CALSCALE:GREGORIAN
METHOD:PUBLISH
X-WR-CALNAME:California Fire Safe Council
X-ORIGINAL-URL:https://cafiresafe.eclipse-dev.com
X-WR-CALDESC:Events for California Fire Safe Council
REFRESH-INTERVAL;VALUE=DURATION:PT1H
X-Robots-Tag:noindex
X-PUBLISHED-TTL:PT1H
BEGIN:VTIMEZONE
TZID:America/Los_Angeles
BEGIN:DAYLIGHT
TZOFFSETFROM:-0800
TZOFFSETTO:-0700
TZNAME:PDT
DTSTART:20220313T100000
END:DAYLIGHT
BEGIN:STANDARD
TZOFFSETFROM:-0700
TZOFFSETTO:-0800
TZNAME:PST
DTSTART:20221106T090000
END:STANDARD
BEGIN:DAYLIGHT
TZOFFSETFROM:-0800
TZOFFSETTO:-0700
TZNAME:PDT
DTSTART:20230312T100000
END:DAYLIGHT
BEGIN:STANDARD
TZOFFSETFROM:-0700
TZOFFSETTO:-0800
TZNAME:PST
DTSTART:20231105T090000
END:STANDARD
BEGIN:DAYLIGHT
TZOFFSETFROM:-0800
TZOFFSETTO:-0700
TZNAME:PDT
DTSTART:20240310T100000
END:DAYLIGHT
BEGIN:STANDARD
TZOFFSETFROM:-0700
TZOFFSETTO:-0800
TZNAME:PST
DTSTART:20241103T090000
END:STANDARD
END:VTIMEZONE
BEGIN:VEVENT
DTSTART;VALUE=DATE:20231101
DTEND;VALUE=DATE:20231102
DTSTAMP:20260425T180801
CREATED:20230925T173108Z
LAST-MODIFIED:20230925T173119Z
UID:7513-1698796800-1698883199@cafiresafe.eclipse-dev.com
SUMMARY:CalVTP Field Training: Sierra Foothills\, Vista Del Rio Project 
DESCRIPTION:Wednesday\, November 1st\, 2023\, 1:00pm – 5:00pm \nLearn more & register here: https://spranch.calpoly.edu/calvtp-field-training-sierra-foothills-vista-del-rio-project \nThis is an opportunity to learn about a fuel reduction project at Vista Del Rio in Oakhurst\, California. Participants will increase their understanding of how CALFIRE used the CalVTP at Vista Del Rio to facilitate vegetation management and fuels reduction. \nParticipants will complete a field treatment tour of the project area\, learning about the different treatment methods used and why they were chosen. Sebastien Cordier\, Madera-Mariposa-Merced Unit Environmental Scientist at CAL FIRE\, and Brian Mattos\, Madera-Mariposa-Merced Unit Forester at CAL FIRE\, will discuss the need for this project\, how the treatment zones were selected\, and the successes as well as the shortcomings that happened while implementing this project.
URL:https://cafiresafe.eclipse-dev.com/event/calvtp-field-training-sierra-foothills-vista-del-rio-project/
CATEGORIES:Partner Events
END:VEVENT
BEGIN:VEVENT
DTSTART;VALUE=DATE:20231111
DTEND;VALUE=DATE:20231119
DTSTAMP:20260425T180801
CREATED:20230831T170429Z
LAST-MODIFIED:20230831T170429Z
UID:7388-1699660800-1700351999@cafiresafe.eclipse-dev.com
SUMMARY:2023 Santa Barbara TREX
DESCRIPTION:
URL:https://cafiresafe.eclipse-dev.com/event/2023-santa-barbara-trex/
CATEGORIES:Partner Events
END:VEVENT
END:VCALENDAR