BEGIN:VCALENDAR
VERSION:2.0
PRODID:-//California Fire Safe Council - ECPv6.15.17//NONSGML v1.0//EN
CALSCALE:GREGORIAN
METHOD:PUBLISH
X-ORIGINAL-URL:https://cafiresafe.eclipse-dev.com
X-WR-CALDESC:Events for California Fire Safe Council
REFRESH-INTERVAL;VALUE=DURATION:PT1H
X-Robots-Tag:noindex
X-PUBLISHED-TTL:PT1H
BEGIN:VTIMEZONE
TZID:America/Los_Angeles
BEGIN:DAYLIGHT
TZOFFSETFROM:-0800
TZOFFSETTO:-0700
TZNAME:PDT
DTSTART:20220313T100000
END:DAYLIGHT
BEGIN:STANDARD
TZOFFSETFROM:-0700
TZOFFSETTO:-0800
TZNAME:PST
DTSTART:20221106T090000
END:STANDARD
BEGIN:DAYLIGHT
TZOFFSETFROM:-0800
TZOFFSETTO:-0700
TZNAME:PDT
DTSTART:20230312T100000
END:DAYLIGHT
BEGIN:STANDARD
TZOFFSETFROM:-0700
TZOFFSETTO:-0800
TZNAME:PST
DTSTART:20231105T090000
END:STANDARD
BEGIN:DAYLIGHT
TZOFFSETFROM:-0800
TZOFFSETTO:-0700
TZNAME:PDT
DTSTART:20240310T100000
END:DAYLIGHT
BEGIN:STANDARD
TZOFFSETFROM:-0700
TZOFFSETTO:-0800
TZNAME:PST
DTSTART:20241103T090000
END:STANDARD
END:VTIMEZONE
BEGIN:VEVENT
DTSTART;VALUE=DATE:20231013
DTEND;VALUE=DATE:20231014
DTSTAMP:20260425T194315
CREATED:20231004T193305Z
LAST-MODIFIED:20231004T193305Z
UID:7528-1697155200-1697241599@cafiresafe.eclipse-dev.com
SUMMARY:Fuels Treatments in the Wildland Urban Interface (WUI): Lessons Learned from the Tahoe Fire and Fuels Team
DESCRIPTION:What: Fuels Treatments in the Wildland Urban Interface (WUI): Lessons Learned from the Tahoe Fire and Fuels Team \nField Training Date: Friday\, October 13\, 2023\, 10 a.m.-5 p.m. \nLocation: South Lake Tahoe\, CA \nField Training Date: Friday\, October 13\, 10 a.m.-5 p.m. \nJoin the Tahoe Fire and Fuels Team and Cal Poly’s Fuels and Vegetation Education Program for a field-based training that spans multiple fires in the Lake Tahoe Basin. Participants will learn how representatives of Tahoe Basin fire agencies worked together to form the Tahoe Fire and Fuels Team with the goal of protecting lives\, property\, and the environment within the Lake Tahoe Basin from wildfire by implementing prioritized fuels reduction projects and engaging the public in becoming a Fire Adapted Community. \nLearn more & register here: https://spranch.calpoly.edu/field-training-fuels-treatments-wildland-urban-interface-wui-lessons-learned-tahoe-fire-and-fuels
URL:https://cafiresafe.eclipse-dev.com/event/fuels-treatments-in-the-wildland-urban-interface-wui-lessons-learned-from-the-tahoe-fire-and-fuels-team/
CATEGORIES:Partner Events
END:VEVENT
BEGIN:VEVENT
DTSTART;VALUE=DATE:20231017
DTEND;VALUE=DATE:20231018
DTSTAMP:20260425T194315
CREATED:20231004T193542Z
LAST-MODIFIED:20231004T200605Z
UID:7530-1697500800-1697587199@cafiresafe.eclipse-dev.com
SUMMARY:Webinar - Project Development and Regulatory Sequencing for Wildfire Grants
DESCRIPTION:What: Project Development and Regulatory Sequencing for Wildfire Grants\nWebinar Date: Tuesday\, October 17\, 2023\, 9 a.m.-12:30 p.m. \nLearn about effective approaches to CAL FIRE and other public funding grants for fuels reduction projects from representatives at Rincon Consultants\, CAL FIRE\, and the San Luis Obispo County Fire Safe Council. Participants will increase their understanding of project development and regulatory sequencing as it applies to grant funded fuels reduction projects in California. \nLearn more & register here: https://spranch.calpoly.edu/project-development-and-regulatory-sequencing-wildfire-grants
URL:https://cafiresafe.eclipse-dev.com/event/project-development-and-regulatory-sequencing-for-wildfire-grants-2/
CATEGORIES:Local FSC Events,Partner Events
END:VEVENT
BEGIN:VEVENT
DTSTART;VALUE=DATE:20231024
DTEND;VALUE=DATE:20231027
DTSTAMP:20260425T194315
CREATED:20230425T170157Z
LAST-MODIFIED:20230425T170157Z
UID:6624-1698105600-1698364799@cafiresafe.eclipse-dev.com
SUMMARY:California Wildfire Conference
DESCRIPTION:https://coastal-quest.idloom.events/californiawildfireconference \nCoastal Quest\, in partnership with Ventura County Wildfire Collaborative\, is proud to present the first California Wildfire Conference.  This three-day exchange will bring together a diverse community of wildfire practitioners to focus on understanding\, preventing\, and recovering from wildfires. The conference will be held from October 24-26\, 2023\, in Ventura County at the Ronald Reagan Presidential Library. \nParticipants are drawn from California\, Western US States\, and globally where wildfire and communities interface.  Attendees include local and national government agencies/leaders\, natural resource managers/landowners\, California Tribes\, community leaders/organizations\, and multi-sectoral collaboratives/councils. \nWe invite Firewise/Firesafe Councils and Collaboratives who are developing wildfire adaptation and mitigation plans and implementing solutions. This event will be open to 200 in-person attendees\, and select sessions will be recorded and shared after the conference.
URL:https://cafiresafe.eclipse-dev.com/event/california-wildfire-conference/
CATEGORIES:Partner Events
END:VEVENT
BEGIN:VEVENT
DTSTART;VALUE=DATE:20231025
DTEND;VALUE=DATE:20231029
DTSTAMP:20260425T194315
CREATED:20230803T165356Z
LAST-MODIFIED:20230803T165356Z
UID:7143-1698192000-1698537599@cafiresafe.eclipse-dev.com
SUMMARY:SAF National Convention
DESCRIPTION:Society of American Foresters National Convention / Sacramento\, CA  \nForestry: It’s in Our DNA \nThe theme\, “Forestry: It’s in Our DNA\,” references both the proud legacy of forestry and the ongoing challenges and opportunities that foresters and natural resources professionals face. Forestry and what it means to be a forester is multi-faceted with many backgrounds\, disciplines\, and experiences shaping our profession’s past\, present\, and future. SAF2023 will bring together novel science and on-the-ground management techniques\, while focusing on how to better communicate our passion to the public\, and building a community that can tackle impacts from a changing climate. \nLocation: SAF Convention events will be held at the SAFE Credit Union Convention Center (1401 K St\, Sacramento\, CA 95814) \nLearn more here: https://eforester.org/safconvention2023.
URL:https://cafiresafe.eclipse-dev.com/event/saf-national-convention/
CATEGORIES:Partner Events
END:VEVENT
BEGIN:VEVENT
DTSTART;VALUE=DATE:20231027
DTEND;VALUE=DATE:20231028
DTSTAMP:20260425T194315
CREATED:20231004T195737Z
LAST-MODIFIED:20231004T195737Z
UID:7532-1698364800-1698451199@cafiresafe.eclipse-dev.com
SUMMARY:Fuels Treatments in the Wildland Urban Interface (WUI): Lessons learned from the San Mateo County Parks Project
DESCRIPTION:What: Fuels Treatments in the Wildland Urban Interface (WUI): Lessons learned from the San Mateo County Parks Project \nField Training Date: Friday\, October 27\, 2023\, 10 a.m.-3:30 p.m. \nLocation: Woodside\, CA \nLearn about a collaborative forest health and fuel reduction project at Huddart and Wunderlich County Parks\, in Silicon Valley’s wildland-urban interface (WUI). Participants will increase their understanding of how San Mateo County Parks fuels reduction projects improve forest health and community wildfire resiliency in the urban wildland interface. \nLearn more & register here: https://spranch.calpoly.edu/field-training-fuels-treatments-wildland-urban-interface-wui-lessons-learned-san-mateo
URL:https://cafiresafe.eclipse-dev.com/event/fuels-treatments-in-the-wildland-urban-interface-wui-lessons-learned-from-the-san-mateo-county-parks-project/
CATEGORIES:Partner Events
END:VEVENT
END:VCALENDAR