BEGIN:VCALENDAR
VERSION:2.0
PRODID:-//California Fire Safe Council - ECPv6.15.17//NONSGML v1.0//EN
CALSCALE:GREGORIAN
METHOD:PUBLISH
X-WR-CALNAME:California Fire Safe Council
X-ORIGINAL-URL:https://cafiresafe.eclipse-dev.com
X-WR-CALDESC:Events for California Fire Safe Council
REFRESH-INTERVAL;VALUE=DURATION:PT1H
X-Robots-Tag:noindex
X-PUBLISHED-TTL:PT1H
BEGIN:VTIMEZONE
TZID:America/Los_Angeles
BEGIN:DAYLIGHT
TZOFFSETFROM:-0800
TZOFFSETTO:-0700
TZNAME:PDT
DTSTART:20220313T100000
END:DAYLIGHT
BEGIN:STANDARD
TZOFFSETFROM:-0700
TZOFFSETTO:-0800
TZNAME:PST
DTSTART:20221106T090000
END:STANDARD
BEGIN:DAYLIGHT
TZOFFSETFROM:-0800
TZOFFSETTO:-0700
TZNAME:PDT
DTSTART:20230312T100000
END:DAYLIGHT
BEGIN:STANDARD
TZOFFSETFROM:-0700
TZOFFSETTO:-0800
TZNAME:PST
DTSTART:20231105T090000
END:STANDARD
BEGIN:DAYLIGHT
TZOFFSETFROM:-0800
TZOFFSETTO:-0700
TZNAME:PDT
DTSTART:20240310T100000
END:DAYLIGHT
BEGIN:STANDARD
TZOFFSETFROM:-0700
TZOFFSETTO:-0800
TZNAME:PST
DTSTART:20241103T090000
END:STANDARD
END:VTIMEZONE
BEGIN:VEVENT
DTSTART;VALUE=DATE:20230516
DTEND;VALUE=DATE:20230517
DTSTAMP:20260425T200250
CREATED:20230510T161418Z
LAST-MODIFIED:20230510T161418Z
UID:6678-1684195200-1684281599@cafiresafe.eclipse-dev.com
SUMMARY:Prescribed Grazing in the Ojai Valley: Community Supported Grazing Program
DESCRIPTION:  \nSee how targeted grazing is used for wildfire fuels mitigation in the Ojai Valley as part of a growing Community Supported Grazing Program. \n“Join us on a field-day to learn about the Ojai Valley Fire Safe Council’s multi-stakeholder approach to community-scale\, fire-safety and ecological resilience with graziers\, fire fighters\, ecologists\, natural resource experts\, community organizations\, and U.C. Cooperative Extension. Owner-operators of Shepherdess Land & Livestock and Ventura Brush Goats will walk participants through the ins and outs of planning grazing in complex wildfire-urban landscapes\, with demonstrations at the Besant School of Happy Valley and the Thacher School\, where grazing with sheep and goats is being utilized to manage fuel loads and fire risk in these high-risk communities. \nWhat to Bring: Hat\, sunblock\, water\, binoculars. Please be prepared to walk up to a mile on uneven terrain\, and wear appropriate footwear and attire. While we expect the weather to be warm\, layers are advised. If you believe you will require assistance with mobility\, please contact the event organizer.” \nhttps://www.eventbrite.com/e/prescribed-grazing-in-the-ojai-valley-community-supported-grazing-program-tickets-626646796437 
URL:https://cafiresafe.eclipse-dev.com/event/prescribed-grazing-in-the-ojai-valley-community-supported-grazing-program/
CATEGORIES:Local FSC Events
END:VEVENT
BEGIN:VEVENT
DTSTART;VALUE=DATE:20230520
DTEND;VALUE=DATE:20230521
DTSTAMP:20260425T200250
CREATED:20230105T222745Z
LAST-MODIFIED:20230105T222915Z
UID:6246-1684540800-1684627199@cafiresafe.eclipse-dev.com
SUMMARY:Ember Stomp: Wildfire Prevention Festival
DESCRIPTION:11:00 AM – 5:00 PM \n\n\n\n\n\n\nMarin Civic Center \nMarin County Fair 10 Avenue of the Flags \nSan Rafael\, CA 94903 \n\n\n\n\nFire Safe Marin presents Ember Stomp\, the 2nd annual wildfire prevention festival in Marin County. This free event on May 20\, 2023\, at the Marin Civic Center will spotlight an extensive collection of wildfire prevention resources and demonstrations. The festival will feature wildfire safety product manufacturers and service providers\, public safety agencies\, a wildfire-themed art exhibit\, live music and entertainment\, hands-on activities and games\, and lots of great food. \n\n\n\n\n\n\n\n\n\n\n\nhttps://firesafemarin.org/programs/wildfire-preparedness-festival/
URL:https://cafiresafe.eclipse-dev.com/event/ember-stomp-wildfire-prevention-festival/
CATEGORIES:Local FSC Events
END:VEVENT
END:VCALENDAR