BEGIN:VCALENDAR
VERSION:2.0
PRODID:-//California Fire Safe Council - ECPv6.15.17//NONSGML v1.0//EN
CALSCALE:GREGORIAN
METHOD:PUBLISH
X-ORIGINAL-URL:https://cafiresafe.eclipse-dev.com
X-WR-CALDESC:Events for California Fire Safe Council
REFRESH-INTERVAL;VALUE=DURATION:PT1H
X-Robots-Tag:noindex
X-PUBLISHED-TTL:PT1H
BEGIN:VTIMEZONE
TZID:America/Los_Angeles
BEGIN:DAYLIGHT
TZOFFSETFROM:-0800
TZOFFSETTO:-0700
TZNAME:PDT
DTSTART:20260308T100000
END:DAYLIGHT
BEGIN:STANDARD
TZOFFSETFROM:-0700
TZOFFSETTO:-0800
TZNAME:PST
DTSTART:20261101T090000
END:STANDARD
BEGIN:DAYLIGHT
TZOFFSETFROM:-0800
TZOFFSETTO:-0700
TZNAME:PDT
DTSTART:20270314T100000
END:DAYLIGHT
BEGIN:STANDARD
TZOFFSETFROM:-0700
TZOFFSETTO:-0800
TZNAME:PST
DTSTART:20271107T090000
END:STANDARD
BEGIN:DAYLIGHT
TZOFFSETFROM:-0800
TZOFFSETTO:-0700
TZNAME:PDT
DTSTART:20280312T100000
END:DAYLIGHT
BEGIN:STANDARD
TZOFFSETFROM:-0700
TZOFFSETTO:-0800
TZNAME:PST
DTSTART:20281105T090000
END:STANDARD
END:VTIMEZONE
BEGIN:VEVENT
DTSTART;TZID=America/Los_Angeles:20271006T120000
DTEND;TZID=America/Los_Angeles:20271006T130000
DTSTAMP:20260424T211322
CREATED:20250807T212350Z
LAST-MODIFIED:20250807T212350Z
UID:10113-1822824000-1822827600@cafiresafe.eclipse-dev.com
SUMMARY:Southern CA Regional Office Hours
DESCRIPTION:The Southern California Regional Open Office Hour occurs on the first Wednesday of each month\, from 12:00 to 1:00 PM. \nRegister in advance for this meeting: \nhttps://us02web.zoom.us/meeting/register/tZclfu2gqzojE9IXxqJX7OPvhXQLvf1Sc_k6
URL:https://cafiresafe.eclipse-dev.com/event/southern-ca-regional-office-hours/2027-10-06/
CATEGORIES:CFSC Events
END:VEVENT
BEGIN:VEVENT
DTSTART;TZID=America/Los_Angeles:20271007T120000
DTEND;TZID=America/Los_Angeles:20271007T130000
DTSTAMP:20260424T211322
CREATED:20250807T212639Z
LAST-MODIFIED:20250807T212639Z
UID:10125-1822910400-1822914000@cafiresafe.eclipse-dev.com
SUMMARY:Northern/Central CA Regional Office Hours
DESCRIPTION:The Northern/Central California Regional Open Office Hour occurs on the first Thursday of the month\, from 12:00 to 1:00 PM. \nRegister in advance for this meeting: \nhttps://us02web.zoom.us/meeting/register/tZMldeGtqDovGdxrKLjCEW2zcbgMSUhT2doE
URL:https://cafiresafe.eclipse-dev.com/event/northern-central-ca-regional-office-hours/2027-10-07/
CATEGORIES:CFSC Events
END:VEVENT
BEGIN:VEVENT
DTSTART;TZID=America/Los_Angeles:20271020T120000
DTEND;TZID=America/Los_Angeles:20271020T130000
DTSTAMP:20260424T211322
CREATED:20231116T183223Z
LAST-MODIFIED:20231116T183223Z
UID:10208-1824033600-1824037200@cafiresafe.eclipse-dev.com
SUMMARY:CFSC Statewide Monthly Meeting
DESCRIPTION:CFSC’s monthly statewide meeting will be held on the third Wednesday of each month from 12:00 – 1:00 PM \nPlease register in advance for this meeting:  \nhttps://us02web.zoom.us/meeting/register/tZYkduyvqzIvGNDG-tRaH5rRRRdh7g-ANpma#/registration \nAfter registering\, you will receive a confirmation email containing information about joining the meeting. \nFor questions\, please contact our Southern California Regional Coordinator\, Britney Munoz \nBritney Munoz\, bmunoz@cafiresafecouncil.org
URL:https://cafiresafe.eclipse-dev.com/event/cfsc-statewide-monthly-meeting/2027-10-20/
CATEGORIES:CFSC Events,Regional Meetings
END:VEVENT
END:VCALENDAR