BEGIN:VCALENDAR
VERSION:2.0
PRODID:-//California Fire Safe Council - ECPv6.15.17//NONSGML v1.0//EN
CALSCALE:GREGORIAN
METHOD:PUBLISH
X-WR-CALNAME:California Fire Safe Council
X-ORIGINAL-URL:https://cafiresafe.eclipse-dev.com
X-WR-CALDESC:Events for California Fire Safe Council
REFRESH-INTERVAL;VALUE=DURATION:PT1H
X-Robots-Tag:noindex
X-PUBLISHED-TTL:PT1H
BEGIN:VTIMEZONE
TZID:America/Los_Angeles
BEGIN:DAYLIGHT
TZOFFSETFROM:-0800
TZOFFSETTO:-0700
TZNAME:PDT
DTSTART:20240310T100000
END:DAYLIGHT
BEGIN:STANDARD
TZOFFSETFROM:-0700
TZOFFSETTO:-0800
TZNAME:PST
DTSTART:20241103T090000
END:STANDARD
BEGIN:DAYLIGHT
TZOFFSETFROM:-0800
TZOFFSETTO:-0700
TZNAME:PDT
DTSTART:20250309T100000
END:DAYLIGHT
BEGIN:STANDARD
TZOFFSETFROM:-0700
TZOFFSETTO:-0800
TZNAME:PST
DTSTART:20251102T090000
END:STANDARD
BEGIN:DAYLIGHT
TZOFFSETFROM:-0800
TZOFFSETTO:-0700
TZNAME:PDT
DTSTART:20260308T100000
END:DAYLIGHT
BEGIN:STANDARD
TZOFFSETFROM:-0700
TZOFFSETTO:-0800
TZNAME:PST
DTSTART:20261101T090000
END:STANDARD
END:VTIMEZONE
BEGIN:VEVENT
DTSTART;TZID=America/Los_Angeles:20250603T123000
DTEND;TZID=America/Los_Angeles:20250603T133000
DTSTAMP:20260424T070232
CREATED:20250404T232613Z
LAST-MODIFIED:20250404T232613Z
UID:9047-1748953800-1748957400@cafiresafe.eclipse-dev.com
SUMMARY:Fire Safe Virtual Expo
DESCRIPTION:CLICK HERE TO REGISTER\nWe’re making it easy for you to learn more about the products and services that can help you and your community become more fire safe. Please join us for one –or all – of our Virtual Expos! This “lunch and learn” webinar series is an opportunity to meet representatives from many of the businesses participating in the 2025 Fire Safe Vendor List. Each Expo will represent businesses from a variety of fire safe categories who will deliver live presentations about their products and services. We’ll end with a Q&A. All expos are FREE and open to the public. Recordings will be hosted on our YouTube channel. \nClick here to learn more about the Fire Safe Virtual Expo. \nSign-up today for one or all of these dates:\nApril 23 | April 30 | May 28 | June 3 | June 5 \nDon’t miss the fourth expo in our series on Tuesday\, June 3. Each business presents a five-minute overview of their product and/or service. We will end with a Q&A\, in which you may pose questions to the vendors. \n\n\n\n\n\n\n\n\n\n\n\n\n\n\n\n\n\n\n\n\n\n\n\n\n\nFireStorm® Building Products\n\n\n\n\n\n\n\n\nAffordable Wildfire Protection: Fire-Rated Ember Vents\, Ember Mesh\, & Gutter Guards\n\n\n\n\n\n\n\n\n\n\n\n\n\n\n\nFortress Building Products\n\n\n\n\n\n\n\n\nFortress Building Products delivers durable\, fire-safe solutions for outdoor living.\n\n\n\n\n\n\n\n\n\n\n\n\n\n\n\nUltimate Tree Service\, LLC.\n\n\n\n\n\n\n\n\nArborist Consultations & Assessments\, Wildfire Vegetation Services\, Tree Trimming & Removal\n\n\n\n\n\n\n\n\n\n\n\n\n\n\n\nWuuii\, Inc.\n\n\n\n\n\n\n\nWuuii provides software for wildfire adapted homes\, businesses\, & communities.\n\n\n\n\n\n\n\n\n\n\n\n\n\n\nVulcan Vents®\n\n\n\n\n\n\n\nProviding one-hour rated\, high airflow flame & ember safe vents.\n\n\n\n\n\n\n  \n\n\n\n\n\n\n\n\n\n\n\n\n\n\n\nCan’t join us live? You can watch the recording at your convenience on our YouTube channel.
URL:https://cafiresafe.eclipse-dev.com/event/fire-safe-virtual-expo-6-3/
CATEGORIES:CFSC Events
END:VEVENT
BEGIN:VEVENT
DTSTART;TZID=America/Los_Angeles:20250605T123000
DTEND;TZID=America/Los_Angeles:20250605T133000
DTSTAMP:20260424T070232
CREATED:20250404T233045Z
LAST-MODIFIED:20250404T233045Z
UID:9049-1749126600-1749130200@cafiresafe.eclipse-dev.com
SUMMARY:Fire Safe Virtual Expo
DESCRIPTION:CLICK HERE TO REGISTER\nWe’re making it easy for you to learn more about the products and services that can help you and your community become more fire safe. Please join us for one –or all – of our Virtual Expos! This “lunch and learn” webinar series is an opportunity to meet representatives from many of the businesses participating in the 2025 Fire Safe Vendor List. Each Expo will represent businesses from a variety of fire safe categories who will deliver live presentations about their products and services. We’ll end with a Q&A. All expos are FREE and open to the public. Recordings will be hosted on our YouTube channel. \nClick here to learn more about the Fire Safe Virtual Expo. \nSign-up today for one or all of these dates:\nApril 23 | April 30 | May 28 | June 3 | June 5 \nThe final expo in our series will be held Thursday\, June 5. Each business presents a five-minute overview of their product and/or service. We will end with a Q&A\, in which you may pose questions to the vendors. \n\n\n\n\n\n\n\n\n\n\n\n\n\n\n\n\n\n\n\n\n\n\n\n\n\n\n\n\n\nApex Enterprises\, Inc.\n\n\n\n\n\n\n\n\nCut-Skid-Decking\, Grinding\, Grubbing\, Hauling\, Chipping\, Fire Suppression Repair\n\n\n\n\n\n\n\n\n\n\n\n\n\n\n\nBrandguard Vents\n\n\n\n\n\n\n\nFlame & Ember-Resistant Vents & Gutter Guards\n\n\n\n\n\n\n\n\n\n\n\n\n\n\nDiversified Resources\, Inc.\n\n\n\n\n\n\n\n\nFuels Reduction\, Vegetation Management\, Land Clearing\, Wildfire Prevention\n\n\n\n\n\n\n\n\n\n\n\n\n\n\nEnvironmental Resources Compliance LLC\n\n\n\n\n\n\n\nEHP Planning\, Archaeology\, Osteology\, CEQA\, NEPA\, Forest Rules\, Tribal Preservation\n\n\n\n\n\n\n\n\n\n\n\n\n\n\nHewn Elements LLC\n\n\n\n\n\n\n\n\nHewn offers IWUIC certified sustainable wood products for fire zones.\n\n\n\n\n\n\n\n\n\n\n\n\n\n\n  \n\n\n\n\n\n\n\n\n\n\n\n\n\n\n\nCan’t join us live? You can watch the recording at your convenience on our YouTube channel.
URL:https://cafiresafe.eclipse-dev.com/event/fire-safe-virtual-expo-6-5/
CATEGORIES:CFSC Events
END:VEVENT
END:VCALENDAR