BEGIN:VCALENDAR
VERSION:2.0
PRODID:-//California Fire Safe Council - ECPv6.15.17//NONSGML v1.0//EN
CALSCALE:GREGORIAN
METHOD:PUBLISH
X-ORIGINAL-URL:https://cafiresafe.eclipse-dev.com
X-WR-CALDESC:Events for California Fire Safe Council
REFRESH-INTERVAL;VALUE=DURATION:PT1H
X-Robots-Tag:noindex
X-PUBLISHED-TTL:PT1H
BEGIN:VTIMEZONE
TZID:America/Los_Angeles
BEGIN:DAYLIGHT
TZOFFSETFROM:-0800
TZOFFSETTO:-0700
TZNAME:PDT
DTSTART:20240310T100000
END:DAYLIGHT
BEGIN:STANDARD
TZOFFSETFROM:-0700
TZOFFSETTO:-0800
TZNAME:PST
DTSTART:20241103T090000
END:STANDARD
BEGIN:DAYLIGHT
TZOFFSETFROM:-0800
TZOFFSETTO:-0700
TZNAME:PDT
DTSTART:20250309T100000
END:DAYLIGHT
BEGIN:STANDARD
TZOFFSETFROM:-0700
TZOFFSETTO:-0800
TZNAME:PST
DTSTART:20251102T090000
END:STANDARD
BEGIN:DAYLIGHT
TZOFFSETFROM:-0800
TZOFFSETTO:-0700
TZNAME:PDT
DTSTART:20260308T100000
END:DAYLIGHT
BEGIN:STANDARD
TZOFFSETFROM:-0700
TZOFFSETTO:-0800
TZNAME:PST
DTSTART:20261101T090000
END:STANDARD
END:VTIMEZONE
BEGIN:VEVENT
DTSTART;VALUE=DATE:20250318
DTEND;VALUE=DATE:20250319
DTSTAMP:20260424T113710
CREATED:20230201T164614Z
LAST-MODIFIED:20230201T164614Z
UID:6412-1742256000-1742342399@cafiresafe.eclipse-dev.com
SUMMARY:CFSC County Coordinator Monthly Meeting
DESCRIPTION:The CFSC Monthly County Coordinator Meeting Series is held on the 3rd Tuesday of the month at 11AM\, beginning Tuesday\, February 21st. The Meeting Series is an opportunity for subrecipients of the County Coordinator Grant Program to network\, engage\, and share resources. Registration is open to CFSC County Coordinators only. For questions or registration information\, please contact Julia Marsili\, jmarsili@cafiresafecouncil.org.
URL:https://cafiresafe.eclipse-dev.com/event/cfsc-county-coordinator-monthly-meeting/2025-03-18/
CATEGORIES:CFSC Events
END:VEVENT
BEGIN:VEVENT
DTSTART;TZID=America/Los_Angeles:20250319T120000
DTEND;TZID=America/Los_Angeles:20250319T130000
DTSTAMP:20260424T113710
CREATED:20231116T183223Z
LAST-MODIFIED:20250115T173849Z
UID:7583-1742385600-1742389200@cafiresafe.eclipse-dev.com
SUMMARY:CFSC Statewide Monthly Meeting
DESCRIPTION:CFSC’s monthly statewide meeting will be held on the third Wednesday of each month from 12:00 – 1:00 PM \nPlease register in advance for this meeting:  \nhttps://us02web.zoom.us/meeting/register/tZYkduyvqzIvGNDG-tRaH5rRRRdh7g-ANpma#/registration \nAfter registering\, you will receive a confirmation email containing information about joining the meeting. \nFor questions\, please contact our Southern California Regional Coordinator\, Britney Munoz \nBritney Munoz\, bmunoz@cafiresafecouncil.org
URL:https://cafiresafe.eclipse-dev.com/event/cfsc-statewide-monthly-meeting/2025-03-19/
CATEGORIES:CFSC Events,Regional Meetings
END:VEVENT
END:VCALENDAR