BEGIN:VCALENDAR
VERSION:2.0
PRODID:-//California Fire Safe Council - ECPv6.15.17//NONSGML v1.0//EN
CALSCALE:GREGORIAN
METHOD:PUBLISH
X-ORIGINAL-URL:https://cafiresafe.eclipse-dev.com
X-WR-CALDESC:Events for California Fire Safe Council
REFRESH-INTERVAL;VALUE=DURATION:PT1H
X-Robots-Tag:noindex
X-PUBLISHED-TTL:PT1H
BEGIN:VTIMEZONE
TZID:America/Los_Angeles
BEGIN:DAYLIGHT
TZOFFSETFROM:-0800
TZOFFSETTO:-0700
TZNAME:PDT
DTSTART:20220313T100000
END:DAYLIGHT
BEGIN:STANDARD
TZOFFSETFROM:-0700
TZOFFSETTO:-0800
TZNAME:PST
DTSTART:20221106T090000
END:STANDARD
BEGIN:DAYLIGHT
TZOFFSETFROM:-0800
TZOFFSETTO:-0700
TZNAME:PDT
DTSTART:20230312T100000
END:DAYLIGHT
BEGIN:STANDARD
TZOFFSETFROM:-0700
TZOFFSETTO:-0800
TZNAME:PST
DTSTART:20231105T090000
END:STANDARD
BEGIN:DAYLIGHT
TZOFFSETFROM:-0800
TZOFFSETTO:-0700
TZNAME:PDT
DTSTART:20240310T100000
END:DAYLIGHT
BEGIN:STANDARD
TZOFFSETFROM:-0700
TZOFFSETTO:-0800
TZNAME:PST
DTSTART:20241103T090000
END:STANDARD
END:VTIMEZONE
BEGIN:VEVENT
DTSTART;TZID=America/Los_Angeles:20231004T140000
DTEND;TZID=America/Los_Angeles:20231004T150000
DTSTAMP:20260425T133159
CREATED:20220720T181851Z
LAST-MODIFIED:20231009T152804Z
UID:7253-1696428000-1696431600@cafiresafe.eclipse-dev.com
SUMMARY:CFSC Central CA Regional Monthly Meeting
DESCRIPTION:CLICK HERE to watch the video recording from this meeting. \n\nPlease come join California Fire Safe Council Regional Coordinators during their monthly regional Check-ins and Networking Calls. \nCentral California meets on the first Wednesday of each month at 2:00 PM. \nPlease register in advance for this meeting: https://us02web.zoom.us/meeting/register/tZYkduyvqzIvGNDG-tRaH5rRRRdh7g-ANpma \nAfter registering\, you will receive a confirmation email containing information about joining the meeting. \nFor questions\, please contact Brooke McAllister\, our Central California Regional Coordinator: bmcallister@cafiresafecouncil.org
URL:https://cafiresafe.eclipse-dev.com/event/cfsc-central-ca-regional-monthly-meeting-2-2023-10-04/
CATEGORIES:CFSC Events,Regional Meetings
END:VEVENT
BEGIN:VEVENT
DTSTART;VALUE=DATE:20231018
DTEND;VALUE=DATE:20231019
DTSTAMP:20260425T133159
CREATED:20221117T201926Z
LAST-MODIFIED:20231030T210542Z
UID:6148-1697587200-1697673599@cafiresafe.eclipse-dev.com
SUMMARY:CFSC Quarterly Statewide Meeting\, October 2023
DESCRIPTION:Watch the video recording from CFSC’s October 2023 Quarterly Statewide Meeting on our YouTube Channel here: https://youtu.be/TP84spCNm-E \n  \n12:00 PM – 1:00 PM \nThese Quarterly Statewide Meetings are intended to allow Fire Safe Councils and Wildland Fire Prevention and Resilience Practitioners throughout California to connect and network with each other. Please join us on Zoom or call in to participate. \nThe Statewide Quarterly meetings occur every 3 months\, on the third Wednesday at 12:00 PM. \nPlease register in advance for this meeting: \nhttps://us02web.zoom.us/meeting/register/tZctcO2rpzguE9ADr6CoDcVZ1wTclTd63w3v \nAfter registering\, you will receive a confirmation email containing information about joining the meeting.
URL:https://cafiresafe.eclipse-dev.com/event/cfsc-quarterly-statewide-meeting-october-2023/
CATEGORIES:CFSC Events
END:VEVENT
BEGIN:VEVENT
DTSTART;TZID=America/Los_Angeles:20231026T120000
DTEND;TZID=America/Los_Angeles:20231026T130000
DTSTAMP:20260425T133159
CREATED:20230601T160642Z
LAST-MODIFIED:20231009T152837Z
UID:7350-1698321600-1698325200@cafiresafe.eclipse-dev.com
SUMMARY:CFSC Northern CA Regional Monthly Meeting
DESCRIPTION:12:00 PM – 1:00 PM\nPlease come join California Fire Safe Council Regional Coordinators during their monthly regional Check-ins and Networking Calls. Northern California meets on the fourth Thursday of each month at 12:00 PM. \nPlease register in advance for this meeting:  \nhttps://us02web.zoom.us/meeting/register/tZwsdO2gqDMqHtFfuppXAQ5OxDF9g6fHwqE9 \nAfter registering\, you will receive a confirmation email containing information about joining the meeting. \nFor questions\, please contact our Northern California Regional Coordinator\, Mike Wilson. \nMike Wilson\, mwilson@cafiresafecouncil.org
URL:https://cafiresafe.eclipse-dev.com/event/cfsc-northern-ca-regional-monthly-meeting-3-2023-08-31-2023-10-26/
CATEGORIES:CFSC Events,Regional Meetings
END:VEVENT
END:VCALENDAR