BEGIN:VCALENDAR
VERSION:2.0
PRODID:-//California Fire Safe Council - ECPv6.15.17//NONSGML v1.0//EN
CALSCALE:GREGORIAN
METHOD:PUBLISH
X-ORIGINAL-URL:https://cafiresafe.eclipse-dev.com
X-WR-CALDESC:Events for California Fire Safe Council
REFRESH-INTERVAL;VALUE=DURATION:PT1H
X-Robots-Tag:noindex
X-PUBLISHED-TTL:PT1H
BEGIN:VTIMEZONE
TZID:America/Los_Angeles
BEGIN:DAYLIGHT
TZOFFSETFROM:-0800
TZOFFSETTO:-0700
TZNAME:PDT
DTSTART:20220313T100000
END:DAYLIGHT
BEGIN:STANDARD
TZOFFSETFROM:-0700
TZOFFSETTO:-0800
TZNAME:PST
DTSTART:20221106T090000
END:STANDARD
BEGIN:DAYLIGHT
TZOFFSETFROM:-0800
TZOFFSETTO:-0700
TZNAME:PDT
DTSTART:20230312T100000
END:DAYLIGHT
BEGIN:STANDARD
TZOFFSETFROM:-0700
TZOFFSETTO:-0800
TZNAME:PST
DTSTART:20231105T090000
END:STANDARD
BEGIN:DAYLIGHT
TZOFFSETFROM:-0800
TZOFFSETTO:-0700
TZNAME:PDT
DTSTART:20240310T100000
END:DAYLIGHT
BEGIN:STANDARD
TZOFFSETFROM:-0700
TZOFFSETTO:-0800
TZNAME:PST
DTSTART:20241103T090000
END:STANDARD
END:VTIMEZONE
BEGIN:VEVENT
DTSTART;VALUE=DATE:20230620
DTEND;VALUE=DATE:20230621
DTSTAMP:20260424T075823
CREATED:20230606T212958Z
LAST-MODIFIED:20230606T212958Z
UID:6778-1687219200-1687305599@cafiresafe.eclipse-dev.com
SUMMARY:Wildfire Mitigation Advisory Committee Monthly Meeting
DESCRIPTION:Zoom meetings links found in agendas for each monthly meeting as published on the state website: https://osfm.fire.ca.gov/boards-committees/wildfire-mitigation-advisory-committee/ \nAbout the Committee: \nThe Wildfire Mitigation Advisory Committee provides a means of communication between the Office of the State Fire Marshal\, California Department of Forestry and Fire Protection\, state agencies\, the California fire service\, representatives of industry\, and other stakeholders.  The Committee provides a forum for addressing wildfire preparedness and mitigation issues of statewide concern\, share the latest available research and best practices\, seek comments and specific input on programs and technical issues\, and inform local agencies and the public of applicable new laws and regulations.
URL:https://cafiresafe.eclipse-dev.com/event/wildfire-mitigation-advisory-committee-monthly-meeting/2023-06-20/
CATEGORIES:Partner Events
END:VEVENT
END:VCALENDAR