BEGIN:VCALENDAR
VERSION:2.0
PRODID:-//California Fire Safe Council - ECPv6.15.17//NONSGML v1.0//EN
CALSCALE:GREGORIAN
METHOD:PUBLISH
X-WR-CALNAME:California Fire Safe Council
X-ORIGINAL-URL:https://cafiresafe.eclipse-dev.com
X-WR-CALDESC:Events for California Fire Safe Council
REFRESH-INTERVAL;VALUE=DURATION:PT1H
X-Robots-Tag:noindex
X-PUBLISHED-TTL:PT1H
BEGIN:VTIMEZONE
TZID:America/Los_Angeles
BEGIN:DAYLIGHT
TZOFFSETFROM:-0800
TZOFFSETTO:-0700
TZNAME:PDT
DTSTART:20210314T100000
END:DAYLIGHT
BEGIN:STANDARD
TZOFFSETFROM:-0700
TZOFFSETTO:-0800
TZNAME:PST
DTSTART:20211107T090000
END:STANDARD
BEGIN:DAYLIGHT
TZOFFSETFROM:-0800
TZOFFSETTO:-0700
TZNAME:PDT
DTSTART:20220313T100000
END:DAYLIGHT
BEGIN:STANDARD
TZOFFSETFROM:-0700
TZOFFSETTO:-0800
TZNAME:PST
DTSTART:20221106T090000
END:STANDARD
BEGIN:DAYLIGHT
TZOFFSETFROM:-0800
TZOFFSETTO:-0700
TZNAME:PDT
DTSTART:20230312T100000
END:DAYLIGHT
BEGIN:STANDARD
TZOFFSETFROM:-0700
TZOFFSETTO:-0800
TZNAME:PST
DTSTART:20231105T090000
END:STANDARD
END:VTIMEZONE
BEGIN:VEVENT
DTSTART;TZID=America/Los_Angeles:20220105T140000
DTEND;TZID=America/Los_Angeles:20220105T150000
DTSTAMP:20260424T070634
CREATED:20211214T034125Z
LAST-MODIFIED:20220111T003140Z
UID:3638-1641391200-1641394800@cafiresafe.eclipse-dev.com
SUMMARY:Regional Meetings - Central California
DESCRIPTION:Please come join California Fire Safe Council Regional Coordinators during their monthly regional Check-ins and Networking Calls. The Regional Coordinators have these monthly virtual calls set up on a regular monthly basis on a set day of the month and time. \nCentral California Fire Safe Council’s and Fire Safety Partners meet on the first Monday of each month at 2 PM. We sure hope to see you there.. \nhttps://us02web.zoom.us/j/85461587260?pwd=THR2eDdzYmVUMFpyZXYrQWQwcnh6QT09
URL:https://cafiresafe.eclipse-dev.com/event/regional-meetings-central-california/2022-01-05/
CATEGORIES:Regional Meetings
ATTACH;FMTTYPE=image/png:https://cafiresafe.eclipse-dev.com/wp-content/uploads/2021/09/CFSC-Vertical-Full-color.png
END:VEVENT
END:VCALENDAR