BEGIN:VCALENDAR
VERSION:2.0
PRODID:-//California Fire Safe Council - ECPv6.15.17//NONSGML v1.0//EN
CALSCALE:GREGORIAN
METHOD:PUBLISH
X-ORIGINAL-URL:https://cafiresafe.eclipse-dev.com
X-WR-CALDESC:Events for California Fire Safe Council
REFRESH-INTERVAL;VALUE=DURATION:PT1H
X-Robots-Tag:noindex
X-PUBLISHED-TTL:PT1H
BEGIN:VTIMEZONE
TZID:America/Los_Angeles
BEGIN:DAYLIGHT
TZOFFSETFROM:-0800
TZOFFSETTO:-0700
TZNAME:PDT
DTSTART:20210314T100000
END:DAYLIGHT
BEGIN:STANDARD
TZOFFSETFROM:-0700
TZOFFSETTO:-0800
TZNAME:PST
DTSTART:20211107T090000
END:STANDARD
BEGIN:DAYLIGHT
TZOFFSETFROM:-0800
TZOFFSETTO:-0700
TZNAME:PDT
DTSTART:20220313T100000
END:DAYLIGHT
BEGIN:STANDARD
TZOFFSETFROM:-0700
TZOFFSETTO:-0800
TZNAME:PST
DTSTART:20221106T090000
END:STANDARD
BEGIN:DAYLIGHT
TZOFFSETFROM:-0800
TZOFFSETTO:-0700
TZNAME:PDT
DTSTART:20230312T100000
END:DAYLIGHT
BEGIN:STANDARD
TZOFFSETFROM:-0700
TZOFFSETTO:-0800
TZNAME:PST
DTSTART:20231105T090000
END:STANDARD
END:VTIMEZONE
BEGIN:VEVENT
DTSTART;VALUE=DATE:20220922
DTEND;VALUE=DATE:20220923
DTSTAMP:20260424T211345
CREATED:20220720T182323Z
LAST-MODIFIED:20240126T185731Z
UID:5529-1663804800-1663891199@cafiresafe.eclipse-dev.com
SUMMARY:CFSC Northern Ca Regional Monthly Meeting
DESCRIPTION:12:00 PM – 1:00 PM\n  \nPlease come join California Fire Safe Council Regional Coordinators during their monthly regional Check-ins and Networking Calls. Northern California meets on the fourth Thursday of each month at 12:00 PM. \nPlease register in advance for this meeting: https://us02web.zoom.us/meeting/register/tZwsdO2gqDMqHtFfuppXAQ5OxDF9g6fHwqE9 \nAfter registering\, you will receive a confirmation email containing information about joining the meeting. \nFor questions\, please contact our Northern California Regional Coordinator\, Mike Wilson. \nMike Wilson\, mwilson@cafiresafecouncil.org
URL:https://cafiresafe.eclipse-dev.com/event/cfsc-northern-ca-regional-monthly-meeting-2/2022-09-22/
CATEGORIES:CFSC Events,Regional Meetings
END:VEVENT
END:VCALENDAR