BEGIN:VCALENDAR
VERSION:2.0
PRODID:-//California Fire Safe Council - ECPv6.15.17//NONSGML v1.0//EN
CALSCALE:GREGORIAN
METHOD:PUBLISH
X-WR-CALNAME:California Fire Safe Council
X-ORIGINAL-URL:https://cafiresafe.eclipse-dev.com
X-WR-CALDESC:Events for California Fire Safe Council
REFRESH-INTERVAL;VALUE=DURATION:PT1H
X-Robots-Tag:noindex
X-PUBLISHED-TTL:PT1H
BEGIN:VTIMEZONE
TZID:America/Los_Angeles
BEGIN:DAYLIGHT
TZOFFSETFROM:-0800
TZOFFSETTO:-0700
TZNAME:PDT
DTSTART:20240310T100000
END:DAYLIGHT
BEGIN:STANDARD
TZOFFSETFROM:-0700
TZOFFSETTO:-0800
TZNAME:PST
DTSTART:20241103T090000
END:STANDARD
BEGIN:DAYLIGHT
TZOFFSETFROM:-0800
TZOFFSETTO:-0700
TZNAME:PDT
DTSTART:20250309T100000
END:DAYLIGHT
BEGIN:STANDARD
TZOFFSETFROM:-0700
TZOFFSETTO:-0800
TZNAME:PST
DTSTART:20251102T090000
END:STANDARD
BEGIN:DAYLIGHT
TZOFFSETFROM:-0800
TZOFFSETTO:-0700
TZNAME:PDT
DTSTART:20260308T100000
END:DAYLIGHT
BEGIN:STANDARD
TZOFFSETFROM:-0700
TZOFFSETTO:-0800
TZNAME:PST
DTSTART:20261101T090000
END:STANDARD
END:VTIMEZONE
BEGIN:VEVENT
DTSTART;TZID=America/Los_Angeles:20250828T140000
DTEND;TZID=America/Los_Angeles:20250828T150000
DTSTAMP:20260423T185100
CREATED:20250721T224713Z
LAST-MODIFIED:20250721T224713Z
UID:9663-1756389600-1756393200@cafiresafe.eclipse-dev.com
SUMMARY:2025 State Fire Capacity Grant Program Office Hours
DESCRIPTION:The California Fire Safe Council is pleased to invite you to participate in the 2025 State Fire Capacity Office Hours. We will be available to answer your questions about the State Fire Capacity Grant Program\, provide guidance on any ZoomGrants issues\, or offer support in any way that can help you succeed in the program. The Notice of Funding Opportunity can be found here. \nOffice Hours:\nDate: Tuesdays and Thursdays (July 22nd – August 28th\, 2025))\nTime: 2PM – 3PM PT\nLocation: Microsoft Teams or you may also dial in by phone at 323-792-6282 (Conference ID: 218269346#)
URL:https://cafiresafe.eclipse-dev.com/event/2025-state-fire-capacity-grant-program-office-hours/2025-08-28/
CATEGORIES:CFSC Events
ORGANIZER;CN="CFSC":MAILTO:lpopyack@cafiresafecouncil.org
END:VEVENT
BEGIN:VEVENT
DTSTART;TZID=America/Los_Angeles:20250826T140000
DTEND;TZID=America/Los_Angeles:20250826T150000
DTSTAMP:20260423T185100
CREATED:20250721T224713Z
LAST-MODIFIED:20250721T224713Z
UID:9662-1756216800-1756220400@cafiresafe.eclipse-dev.com
SUMMARY:2025 State Fire Capacity Grant Program Office Hours
DESCRIPTION:The California Fire Safe Council is pleased to invite you to participate in the 2025 State Fire Capacity Office Hours. We will be available to answer your questions about the State Fire Capacity Grant Program\, provide guidance on any ZoomGrants issues\, or offer support in any way that can help you succeed in the program. The Notice of Funding Opportunity can be found here. \nOffice Hours:\nDate: Tuesdays and Thursdays (July 22nd – August 28th\, 2025))\nTime: 2PM – 3PM PT\nLocation: Microsoft Teams or you may also dial in by phone at 323-792-6282 (Conference ID: 218269346#)
URL:https://cafiresafe.eclipse-dev.com/event/2025-state-fire-capacity-grant-program-office-hours/2025-08-26/
CATEGORIES:CFSC Events
ORGANIZER;CN="CFSC":MAILTO:lpopyack@cafiresafecouncil.org
END:VEVENT
BEGIN:VEVENT
DTSTART;TZID=America/Los_Angeles:20250821T140000
DTEND;TZID=America/Los_Angeles:20250821T150000
DTSTAMP:20260423T185100
CREATED:20250721T224713Z
LAST-MODIFIED:20250721T224713Z
UID:9661-1755784800-1755788400@cafiresafe.eclipse-dev.com
SUMMARY:2025 State Fire Capacity Grant Program Office Hours
DESCRIPTION:The California Fire Safe Council is pleased to invite you to participate in the 2025 State Fire Capacity Office Hours. We will be available to answer your questions about the State Fire Capacity Grant Program\, provide guidance on any ZoomGrants issues\, or offer support in any way that can help you succeed in the program. The Notice of Funding Opportunity can be found here. \nOffice Hours:\nDate: Tuesdays and Thursdays (July 22nd – August 28th\, 2025))\nTime: 2PM – 3PM PT\nLocation: Microsoft Teams or you may also dial in by phone at 323-792-6282 (Conference ID: 218269346#)
URL:https://cafiresafe.eclipse-dev.com/event/2025-state-fire-capacity-grant-program-office-hours/2025-08-21/
CATEGORIES:CFSC Events
ORGANIZER;CN="CFSC":MAILTO:lpopyack@cafiresafecouncil.org
END:VEVENT
BEGIN:VEVENT
DTSTART;TZID=America/Los_Angeles:20250819T140000
DTEND;TZID=America/Los_Angeles:20250819T150000
DTSTAMP:20260423T185100
CREATED:20250721T224713Z
LAST-MODIFIED:20250721T224713Z
UID:9660-1755612000-1755615600@cafiresafe.eclipse-dev.com
SUMMARY:2025 State Fire Capacity Grant Program Office Hours
DESCRIPTION:The California Fire Safe Council is pleased to invite you to participate in the 2025 State Fire Capacity Office Hours. We will be available to answer your questions about the State Fire Capacity Grant Program\, provide guidance on any ZoomGrants issues\, or offer support in any way that can help you succeed in the program. The Notice of Funding Opportunity can be found here. \nOffice Hours:\nDate: Tuesdays and Thursdays (July 22nd – August 28th\, 2025))\nTime: 2PM – 3PM PT\nLocation: Microsoft Teams or you may also dial in by phone at 323-792-6282 (Conference ID: 218269346#)
URL:https://cafiresafe.eclipse-dev.com/event/2025-state-fire-capacity-grant-program-office-hours/2025-08-19/
CATEGORIES:CFSC Events
ORGANIZER;CN="CFSC":MAILTO:lpopyack@cafiresafecouncil.org
END:VEVENT
BEGIN:VEVENT
DTSTART;TZID=America/Los_Angeles:20250814T140000
DTEND;TZID=America/Los_Angeles:20250814T150000
DTSTAMP:20260423T185100
CREATED:20250721T224713Z
LAST-MODIFIED:20250721T224713Z
UID:9659-1755180000-1755183600@cafiresafe.eclipse-dev.com
SUMMARY:2025 State Fire Capacity Grant Program Office Hours
DESCRIPTION:The California Fire Safe Council is pleased to invite you to participate in the 2025 State Fire Capacity Office Hours. We will be available to answer your questions about the State Fire Capacity Grant Program\, provide guidance on any ZoomGrants issues\, or offer support in any way that can help you succeed in the program. The Notice of Funding Opportunity can be found here. \nOffice Hours:\nDate: Tuesdays and Thursdays (July 22nd – August 28th\, 2025))\nTime: 2PM – 3PM PT\nLocation: Microsoft Teams or you may also dial in by phone at 323-792-6282 (Conference ID: 218269346#)
URL:https://cafiresafe.eclipse-dev.com/event/2025-state-fire-capacity-grant-program-office-hours/2025-08-14/
CATEGORIES:CFSC Events
ORGANIZER;CN="CFSC":MAILTO:lpopyack@cafiresafecouncil.org
END:VEVENT
BEGIN:VEVENT
DTSTART;TZID=America/Los_Angeles:20250812T140000
DTEND;TZID=America/Los_Angeles:20250812T150000
DTSTAMP:20260423T185100
CREATED:20250721T224713Z
LAST-MODIFIED:20250721T224713Z
UID:9658-1755007200-1755010800@cafiresafe.eclipse-dev.com
SUMMARY:2025 State Fire Capacity Grant Program Office Hours
DESCRIPTION:The California Fire Safe Council is pleased to invite you to participate in the 2025 State Fire Capacity Office Hours. We will be available to answer your questions about the State Fire Capacity Grant Program\, provide guidance on any ZoomGrants issues\, or offer support in any way that can help you succeed in the program. The Notice of Funding Opportunity can be found here. \nOffice Hours:\nDate: Tuesdays and Thursdays (July 22nd – August 28th\, 2025))\nTime: 2PM – 3PM PT\nLocation: Microsoft Teams or you may also dial in by phone at 323-792-6282 (Conference ID: 218269346#)
URL:https://cafiresafe.eclipse-dev.com/event/2025-state-fire-capacity-grant-program-office-hours/2025-08-12/
CATEGORIES:CFSC Events
ORGANIZER;CN="CFSC":MAILTO:lpopyack@cafiresafecouncil.org
END:VEVENT
BEGIN:VEVENT
DTSTART;TZID=America/Los_Angeles:20250807T140000
DTEND;TZID=America/Los_Angeles:20250807T150000
DTSTAMP:20260423T185100
CREATED:20250721T224713Z
LAST-MODIFIED:20250721T224713Z
UID:9657-1754575200-1754578800@cafiresafe.eclipse-dev.com
SUMMARY:2025 State Fire Capacity Grant Program Office Hours
DESCRIPTION:The California Fire Safe Council is pleased to invite you to participate in the 2025 State Fire Capacity Office Hours. We will be available to answer your questions about the State Fire Capacity Grant Program\, provide guidance on any ZoomGrants issues\, or offer support in any way that can help you succeed in the program. The Notice of Funding Opportunity can be found here. \nOffice Hours:\nDate: Tuesdays and Thursdays (July 22nd – August 28th\, 2025))\nTime: 2PM – 3PM PT\nLocation: Microsoft Teams or you may also dial in by phone at 323-792-6282 (Conference ID: 218269346#)
URL:https://cafiresafe.eclipse-dev.com/event/2025-state-fire-capacity-grant-program-office-hours/2025-08-07/
CATEGORIES:CFSC Events
ORGANIZER;CN="CFSC":MAILTO:lpopyack@cafiresafecouncil.org
END:VEVENT
BEGIN:VEVENT
DTSTART;TZID=America/Los_Angeles:20250805T140000
DTEND;TZID=America/Los_Angeles:20250805T150000
DTSTAMP:20260423T185100
CREATED:20250721T224713Z
LAST-MODIFIED:20250721T224713Z
UID:9656-1754402400-1754406000@cafiresafe.eclipse-dev.com
SUMMARY:2025 State Fire Capacity Grant Program Office Hours
DESCRIPTION:The California Fire Safe Council is pleased to invite you to participate in the 2025 State Fire Capacity Office Hours. We will be available to answer your questions about the State Fire Capacity Grant Program\, provide guidance on any ZoomGrants issues\, or offer support in any way that can help you succeed in the program. The Notice of Funding Opportunity can be found here. \nOffice Hours:\nDate: Tuesdays and Thursdays (July 22nd – August 28th\, 2025))\nTime: 2PM – 3PM PT\nLocation: Microsoft Teams or you may also dial in by phone at 323-792-6282 (Conference ID: 218269346#)
URL:https://cafiresafe.eclipse-dev.com/event/2025-state-fire-capacity-grant-program-office-hours/2025-08-05/
CATEGORIES:CFSC Events
ORGANIZER;CN="CFSC":MAILTO:lpopyack@cafiresafecouncil.org
END:VEVENT
BEGIN:VEVENT
DTSTART;TZID=America/Los_Angeles:20250731T140000
DTEND;TZID=America/Los_Angeles:20250731T150000
DTSTAMP:20260423T185100
CREATED:20250721T224713Z
LAST-MODIFIED:20250721T224713Z
UID:9655-1753970400-1753974000@cafiresafe.eclipse-dev.com
SUMMARY:2025 State Fire Capacity Grant Program Office Hours
DESCRIPTION:The California Fire Safe Council is pleased to invite you to participate in the 2025 State Fire Capacity Office Hours. We will be available to answer your questions about the State Fire Capacity Grant Program\, provide guidance on any ZoomGrants issues\, or offer support in any way that can help you succeed in the program. The Notice of Funding Opportunity can be found here. \nOffice Hours:\nDate: Tuesdays and Thursdays (July 22nd – August 28th\, 2025))\nTime: 2PM – 3PM PT\nLocation: Microsoft Teams or you may also dial in by phone at 323-792-6282 (Conference ID: 218269346#)
URL:https://cafiresafe.eclipse-dev.com/event/2025-state-fire-capacity-grant-program-office-hours/2025-07-31/
CATEGORIES:CFSC Events
ORGANIZER;CN="CFSC":MAILTO:lpopyack@cafiresafecouncil.org
END:VEVENT
BEGIN:VEVENT
DTSTART;TZID=America/Los_Angeles:20250729T140000
DTEND;TZID=America/Los_Angeles:20250729T150000
DTSTAMP:20260423T185100
CREATED:20250721T224713Z
LAST-MODIFIED:20250721T224713Z
UID:9654-1753797600-1753801200@cafiresafe.eclipse-dev.com
SUMMARY:2025 State Fire Capacity Grant Program Office Hours
DESCRIPTION:The California Fire Safe Council is pleased to invite you to participate in the 2025 State Fire Capacity Office Hours. We will be available to answer your questions about the State Fire Capacity Grant Program\, provide guidance on any ZoomGrants issues\, or offer support in any way that can help you succeed in the program. The Notice of Funding Opportunity can be found here. \nOffice Hours:\nDate: Tuesdays and Thursdays (July 22nd – August 28th\, 2025))\nTime: 2PM – 3PM PT\nLocation: Microsoft Teams or you may also dial in by phone at 323-792-6282 (Conference ID: 218269346#)
URL:https://cafiresafe.eclipse-dev.com/event/2025-state-fire-capacity-grant-program-office-hours/2025-07-29/
CATEGORIES:CFSC Events
ORGANIZER;CN="CFSC":MAILTO:lpopyack@cafiresafecouncil.org
END:VEVENT
BEGIN:VEVENT
DTSTART;TZID=America/Los_Angeles:20250724T140000
DTEND;TZID=America/Los_Angeles:20250724T150000
DTSTAMP:20260423T185100
CREATED:20250721T224713Z
LAST-MODIFIED:20250721T224713Z
UID:9653-1753365600-1753369200@cafiresafe.eclipse-dev.com
SUMMARY:2025 State Fire Capacity Grant Program Office Hours
DESCRIPTION:The California Fire Safe Council is pleased to invite you to participate in the 2025 State Fire Capacity Office Hours. We will be available to answer your questions about the State Fire Capacity Grant Program\, provide guidance on any ZoomGrants issues\, or offer support in any way that can help you succeed in the program. The Notice of Funding Opportunity can be found here. \nOffice Hours:\nDate: Tuesdays and Thursdays (July 22nd – August 28th\, 2025))\nTime: 2PM – 3PM PT\nLocation: Microsoft Teams or you may also dial in by phone at 323-792-6282 (Conference ID: 218269346#)
URL:https://cafiresafe.eclipse-dev.com/event/2025-state-fire-capacity-grant-program-office-hours/2025-07-24/
CATEGORIES:CFSC Events
ORGANIZER;CN="CFSC":MAILTO:lpopyack@cafiresafecouncil.org
END:VEVENT
BEGIN:VEVENT
DTSTART;TZID=America/Los_Angeles:20250722T140000
DTEND;TZID=America/Los_Angeles:20250722T150000
DTSTAMP:20260423T185100
CREATED:20250721T224713Z
LAST-MODIFIED:20250721T224713Z
UID:9651-1753192800-1753196400@cafiresafe.eclipse-dev.com
SUMMARY:2025 State Fire Capacity Grant Program Office Hours
DESCRIPTION:The California Fire Safe Council is pleased to invite you to participate in the 2025 State Fire Capacity Office Hours. We will be available to answer your questions about the State Fire Capacity Grant Program\, provide guidance on any ZoomGrants issues\, or offer support in any way that can help you succeed in the program. The Notice of Funding Opportunity can be found here. \nOffice Hours:\nDate: Tuesdays and Thursdays (July 22nd – August 28th\, 2025))\nTime: 2PM – 3PM PT\nLocation: Microsoft Teams or you may also dial in by phone at 323-792-6282 (Conference ID: 218269346#)
URL:https://cafiresafe.eclipse-dev.com/event/2025-state-fire-capacity-grant-program-office-hours/2025-07-22/
CATEGORIES:CFSC Events
ORGANIZER;CN="CFSC":MAILTO:lpopyack@cafiresafecouncil.org
END:VEVENT
END:VCALENDAR